Workbook
Name A: [1]ECABR!#REF!
Name A_impresión_IM: [1]ECABR!#REF!
Name abc: [2]TOTAL!#REF!
Name B: [3]EGRESOS!#REF!
Name BASE: #REF!
Name cba: [2]TOTAL!#REF!
Name ELOY: #REF!
Name ENTE_PUBLICO: '[5]Info General'!$C$6
Name Fecha: #REF!
Name HF: [6]T1705HF!$B$20:$B$20
Name ju: [4]REPORTO!#REF!
Name mao: [1]ECABR!#REF!
Name N: #REF!
Name REPORTO: #REF!
Name TCAIE: [7]CH1902!$B$20:$B$20
Name TCFEEIS: #REF!
Name TRASP: #REF!
Name U: #REF!
Name x: #REF!

Sheet EAI
A1: Universidad Tecnológica del Norte de Guanajuato Estado Analítico de Ingresos Del 01 Enero al 31 de Diciembre de 2024
B2: Ingresos | G2: Diferencia
A3: Rubro de Ingresos | B3: Estimado | C3: Ampliaciones y Reducciones | D3: Modificado | E3: Devengado | F3: Recaudado
B4: (1) | C4: (2) | D4: (3 = 1 + 2) | E4: (4) | F4: (5) | G4: (6 = 5 - 1)
A5: Impuestos | B5: 0 | C5: 0 | D5: 0 | E5: 0 | F5: 0 | G5: 0
A6: Cuotas y Aportaciones de Seguridad Social | B6: 0 | C6: 0 | D6: 0 | E6: 0 | F6: 0 | G6: 0
A7: Contribuciones de Mejoras | B7: 0 | C7: 0 | D7: 0 | E7: 0 | F7: 0 | G7: 0
A8: Derechos | B8: 0 | C8: 0 | D8: 0 | E8: 0 | F8: 0 | G8: 0
A9: Productos | B9: 0 | C9: 0 | D9: 0 | E9: 0 | F9: 0 | G9: 0
A10: Aprovechamientos | B10: 0 | C10: 0 | D10: 0 | E10: 0 | F10: 0 | G10: 0
A11: Ingresos por Venta de Bienes, Prestación de Servicios y Otros Ingresos | B11: 16646093 | C11: -144102.24 | D11: =B11+C11 -> 16501991 | E11: 14563510 | F11: 14552131 | G11: =F11-B11 -> -2093962.2
A12: Participaciones, Aportaciones, Convenios, Incentivos de Derivados de la Colaboración Fiscal y Fondos Distintos de Aportaciones | B12: 49374691 | C12: 6921502.4 | D12: =B12+C12 -> 56296193 | E12: 56296193 | F12: 56296193 | G12: =F12-B12 -> 6921502.4
A13: Transferencias, Asignaciones, Subsidios y Subvenciones, y Pensiones y Jubilaciones | B13: 49909454 | C13: 4306005 | D13: =B13+C13 -> 54215459 | E13: 54215459 | F13: 54215459 | G13: =F13-B13 -> 4306005
A14: Ingresos Derivados de Financiamientos | B14: 0 | C14: 0 | D14: 0 | E14: 0 | F14: 0 | G14: 0
A16: Total | B16: =SUM(B5:B15) -> 1.1593024e+08 | C16: =SUM(C5:C15) -> 11083405 | D16: =SUM(D5:D15) -> 1.2701364e+08 | E16: =SUM(E5:E15) -> 1.2507516e+08 | F16: =SUM(F5:F15) -> 1.2506378e+08 | G16: =SUM(G5:G15) -> 9133545.2
E17: Ingresos Excedentes
B18: Ingresos | G18: Diferencia
A19: Estado Analítico de Ingresos Por Fuente de Financiamiento | B19: Estimado | C19: Ampliaciones y Reducciones | D19: Modificado | E19: Devengado | F19: Recaudado
B20: (1) | C20: (2) | D20: (3 = 1 + 2) | E20: (4) | F20: (5) | G20: (6 = 5 - 1)
A21: Ingresos del Poder Ejecutivo Federal o Estatal y de los Municipios | B21: =SUM(B22:B29) -> 0 | C21: =SUM(C22:C29) -> 0 | D21: =SUM(D22:D29) -> 0 | E21: =SUM(E22:E29) -> 0 | F21: =SUM(F22:F29) -> 0 | G21: =SUM(G22:G29) -> 0
A22: Impuestos | B22: 0 | C22: 0 | D22: 0 | E22: 0 | F22: 0 | G22: 0
A23: Cuotas y Aportaciones de Seguridad Social | B23: 0 | C23: 0 | D23: 0 | E23: 0 | F23: 0 | G23: 0
A24: Contribuciones de Mejoras | B24: 0 | C24: 0 | D24: 0 | E24: 0 | F24: 0 | G24: 0
A25: Derechos | B25: 0 | C25: 0 | D25: 0 | E25: 0 | F25: 0 | G25: 0
A26: Productos1 | B26: 0 | C26: 0 | D26: 0 | E26: 0 | F26: 0 | G26: 0
A27: Aprovechamientos2 | B27: 0 | C27: 0 | D27: 0 | E27: 0 | F27: 0 | G27: 0
A28: Participaciones, Aportaciones, Convenios, Incentivos Derivados de la Colaboración Fiscal y Fondos Distintos de Aportaciones | B28: 0 | C28: 0 | D28: 0 | E28: 0 | F28: 0 | G28: 0
A29: Transferencias, Asignaciones, Subsidios y Subvenciones, y Pensiones y Jubilaciones | B29: 0 | C29: 0 | D29: 0 | E29: 0 | F29: 0 | G29: 0
A31: Ingresos de los Entes Públicos de los Poderes Legislativo y Judicial, de los Órganos Autónomos y del Sector Paraestatal o Paramunicipal, así como de las Empresas Productivas del Estado | B31: =SUM(B32:B35) -> 66555547 | C31: =SUM(C32:C35) -> 4161902.8 | D31: =SUM(D32:D35) -> 70717450 | E31: =SUM(E32:E35) -> 68778969 | F31: =SUM(F32:F35) -> 68767590 | G31: =SUM(G32:G35) -> 2212042.8
A32: Cuotas y Aportaciones de Seguridad Social | B32: 0 | C32: 0 | D32: 0 | E32: 0 | F32: 0 | G32: 0
A33: Productos1 | B33: 0 | C33: 0 | D33: 0 | E33: 0 | F33: 0 | G33: 0
A34: Ingresos por Venta de Bienes, Prestación de Servicios y Otros Ingresos3 | B34: 16646093 | C34: -144102.24 | D34: =B34+C34 -> 16501991 | E34: 14563510 | F34: 14552131 | G34: =F34-B34 -> -2093962.2
A35: Transferencias, Asignaciones, Subsidios y Subvenciones, y Pensiones y Jubilaciones | B35: 49909454 | C35: 4306005 | D35: =B35+C35 -> 54215459 | E35: 54215459 | F35: 54215459 | G35: =F35-B35 -> 4306005
A37: Ingresos Derivados de Financiamiento | B37: 0 | C37: 0 | D37: 0 | E37: 0 | F37: 0 | G37: 0
A38: Ingresos Derivados de Financiamientos | B38: 0 | C38: 0 | D38: 0 | E38: 0 | F38: 0 | G38: 0
A40: Total | B40: =B21+B31 -> 66555547 | C40: =C21+C31 -> 4161902.8 | D40: =D21+D31 -> 70717450 | E40: =E21+E31 -> 68778969 | F40: =F21+F31 -> 68767590 | G40: =G21+G31 -> 2212042.8
E41: Ingresos Excedentes | G41: 0
A42: Bajo protesta de decir verdad declaramos que los Estados Financieros y sus notas, son razonablemente correctos y son responsabilidad del emisor.
A44: 1 Incluye intereses que generan las cuentas bancarias de los entes públicos en productos.
A45: 2 Incluye donativos en efectivo del Poder Ejecutivo, entre otros aprovechamientos.
...

Sheet EAI COMPLEMENTARIO
B1: Universidad Tecnológica del Norte de Guanajuato Estado Analítico Complementario de Ingresos Del 01 de Enero al 31 de Diciembre de 2024
B2: Estado Analítico de Cuadre de Ingresos por Fuente de Financiamiento | D2: Ingresos | I2: Diferencia
D3: Estimado | E3: Ampliaciones y Reducciones | F3: Modificado | G3: Devengado | H3: Recaudado
D4: (1) | E4: (2) | F4: (3 = 1 + 2) | G4: (4) | H4: (5) | I4: (6 = 5 - 1)
B5: Ingresos de los Entes públicos de los Poderes Legislativo y Judicial, de los Organos Autónomos y del Sector Para estatal o Paramunicipal, asi como de las Empresas Productivas del Estado.
B12: Participaciones, Aportaciones, Convenios, Incentivos derivados de la colaboración Fiscal y Fondos Distintos de Aportaciones. | D12: 49374691 | E12: 6921502.4 | F12: =D12+E12 -> 56296193 | G12: 56296193 | H12: 56296193 | I12: =H12-D12 -> 6921502.4
C21: Total | D21: =D9+D12+D17+D18+D19+D16 -> 49374691 | E21: =E9+E12+E17+E18+E19+E16 -> 6921502.4 | F21: =F9+F12+F17+F18+F19+F16 -> 56296193 | G21: =G9+G12+G17+G18+G19+G16 -> 56296193 | H21: =H9+H12+H17+H18+H19+H16 -> 56296193 | I21: =I9+I12+I17+I18+I19+I16 -> 6921502.4
G22: Ingresos Excedentes | I22: =I21 -> 6921502.4
B23: Bajo protesta de decir verdad declaramos que los Estados Financieros y sus Notas son razonablemente correctos y responsabilidad del emisor
C30: M. en C. Andrés Salvador Casillas Barajas | G30: MAE. Loth Mariano Pérez Camacho
C31: Encargado de Rectoría de la Universidad Tecnológica del Norte de Guanajuato | G31: Encargado de la Secretaría de Administración y Finanzas de la Universidad Tecnológica del Norte de Guanajuato

Sheet COG
A1: Universidad Tecnológica del Norte de Guanajuato Estado Analítico del Ejercicio del Presupuesto de Egresos Clasificación por Objeto del Gasto (Capítulo y Concepto) Del 1 de Enero al 31 de Diciembre de 2024
A2: Concepto | C2: Egresos | H2: Subejercicio
C3: Aprobado | D3: Ampliaciones/ (Reducciones) | E3: Modificado | F3: Devengado | G3: Pagado
C4: 1 | D4: 2 | E4: 3 = (1 + 2 ) | F4: 4 | G4: 5 | H4: 6 = ( 3 - 4 )
A5: Servicios Personales | C5: 91940558 | D5: -3636169.4 | E5: 88304389 | F5: 83071136 | G5: 83071136 | H5: 5233253.2
A6: 1100 | B6: Remuneraciones al Personal de Carácter Permanente | C6: 17910223 | D6: 2085572.8 | E6: 19995796 | F6: 19572375 | G6: 19572375 | H6: 423420.91
A7: 1200 | B7: Remuneraciones al Personal de Carácter Transitorio | C7: 23831308 | D7: -6535774.3 | E7: 17295534 | F7: 16847554 | G7: 16847554 | H7: 447979.72
A8: 1300 | B8: Remuneraciones Adicionales y Especiales | C8: 9861254.2 | D8: 1356487.4 | E8: 11217742 | F8: 9368007.3 | G8: 9368007.3 | H8: 1849734.3
A9: 1400 | B9: Seguridad Social | C9: 16829688 | D9: -169426.03 | E9: 16660262 | F9: 15861317 | G9: 15861317 | H9: 798944.97
A10: 1500 | B10: Otras Prestaciones Sociales y Económicas | C10: 22700086 | D10: -373029.26 | E10: 22327056 | F10: 20646637 | G10: 20646637 | H10: 1680419.7
A11: 1600 | B11: Previsiones | C11: 0 | D11: 0 | E11: 0 | F11: 0 | G11: 0 | H11: 0
A12: 1700 | B12: Pago de Estímulos a Servidores Públicos | C12: 808000 | D12: 0 | E12: 808000 | F12: 775246.44 | G12: 775246.44 | H12: 32753.56
A13: Materiales Y Suministros | C13: 2566998.7 | D13: 220314.04 | E13: 2787312.7 | F13: 2849975.5 | G13: 1942625.4 | H13: -62662.81
A14: 2100 | B14: Materiales de Administración, Emisión de Documentos y Artículos Oficiales | C14: 877091.8 | D14: -14885.57 | E14: 862206.23 | F14: 904162.65 | G14: 464020.13 | H14: -41956.42
A15: 2200 | B15: Alimentos y Utensilios | C15: 124672.7 | D15: 15743.45 | E15: 140416.15 | F15: 101255.57 | G15: 101255.57 | H15: 39160.58
A16: 2300 | B16: Materias Primas y Materiales de Producción y Comercialización | C16: 0 | D16: 23781.3 | E16: 23781.3 | F16: 47562.6 | G16: 23781.3 | H16: -23781.3
A17: 2400 | B17: Materiales y Artículos de Construcción y de Reparación | C17: 442734.1 | D17: -60408.2 | E17: 382325.9 | F17: 377203.6 | G17: 213010.78 | H17: 5122.3
A18: 2500 | B18: Productos Químicos, Farmacéuticos y de Laboratorio | C18: 151309.34 | D18: -61578.64 | E18: 89730.7 | F18: 123200.31 | G18: 64026.27 | H18: -33469.61
A19: 2600 | B19: Combustibles, Lubricantes y Aditivos | C19: 692772.54 | D19: 298693.88 | E19: 991466.42 | F19: 846120.42 | G19: 846120.42 | H19: 145346
A20: 2700 | B20: Vestuario, Blancos, Prendas de Protección y Artículos Deportivos | C20: 93042.5 | D20: -2226.5 | E20: 90816 | F20: 111058.66 | G20: 56459.9 | H20: -20242.66
A21: 2800 | B21: Materiales y Suministros Para Seguridad | C21: 0 | D21: 0 | E21: 0 | F21: 0 | G21: 0 | H21: 0
A22: 2900 | B22: Herramientas, Refacciones y Accesorios Menores | C22: 185375.72 | D22: 21194.32 | E22: 206570.04 | F22: 339411.74 | G22: 173951.01 | H22: -132841.7
A23: Servicios Generales | C23: 19724808 | D23: 9274556.6 | E23: 28999364 | F23: 24435899 | G23: 23626826 | H23: 4563465.5
A24: 3100 | B24: Servicios Básicos | C24: 2869651.4 | D24: 1853315.5 | E24: 4722966.9 | F24: 3488812.9 | G24: 3488812.9 | H24: 1234153.9
A25: 3200 | B25: Servicios de Arrendamiento | C25: 1236883.6 | D25: 289933.63 | E25: 1526817.2 | F25: 1898063.2 | G25: 1444731 | H25: -371245.95
A26: 3300 | B26: Servicios Profesionales, Científicos, Técnicos y Otros Servicios | C26: 5931866.6 | D26: -391819.05 | E26: 5540047.5 | F26: 5329878.7 | G26: 5329878.7 | H26: 210168.86
A27: 3400 | B27: Servicios Financieros, Bancarios y Comerciales | C27: 708471 | D27: -1370 | E27: 707101 | F27: 4361.75 | G27: 4361.75 | H27: 702739.25
A28: 3500 | B28: Servicios de Instalación, Reparación, Mantenimiento y Conservación | C28: 5083142.7 | D28: 7151815.1 | E28: 12234958 | F28: 10167201 | G28: 9811460.1 | H28: 2067757.3
A29: 3600 | B29: Servicios de Comunicación Social y Publicidad. | C29: 438749.71 | D29: -84250 | E29: 354499.71 | F29: 333534.85 | G29: 333534.85 | H29: 20964.86
A30: 3700 | B30: Servicios de Traslado y Viáticos | C30: 215572.22 | D30: -3068.54 | E30: 212503.68 | F30: 184604.34 | G30: 184604.34 | H30: 27899.34
A31: 3800 | B31: Servicios Oficiales | C31: 466250.65 | D31: 149738.04 | E31: 615988.69 | F31: 566802.44 | G31: 566802.44 | H31: 49186.25
A32: 3900 | B32: Otros Servicios Generales | C32: 2774219.7 | D32: 310261.92 | E32: 3084481.6 | F32: 2462640 | G32: 2462640 | H32: 621841.59
A33: Transferencias, Asignaciones, Subsidios Y Otras Ayudas | C33: 1536874 | D33: 789089.88 | E33: 2325963.9 | F33: 2181944.9 | G33: 2139066.4 | H33: 144018.94
A34: 4100 | B34: Transferencias Internas y Asignaciones al Sector Público | C34: 0 | D34: 0 | E34: 0 | F34: 0 | G34: 0 | H34: 0
A35: 4200 | B35: Transferencias al Resto del Sector Público | C35: 0 | D35: 0 | E35: 0 | F35: 0 | G35: 0 | H35: 0
A36: 4300 | B36: Subsidios y Subvenciones | C36: 0 | D36: 0 | E36: 0 | F36: 0 | G36: 0 | H36: 0
A37: 4400 | B37: Ayudas Sociales | C37: 1536874 | D37: 789089.88 | E37: 2325963.9 | F37: 2181944.9 | G37: 2139066.4 | H37: 144018.94
A38: 4500 | B38: Pensiones y Jubilaciones | C38: 0 | D38: 0 | E38: 0 | F38: 0 | G38: 0 | H38: 0
A39: 4600 | B39: Transferencias a Fideicomisos, Mandatos y Otros Análogos | C39: 0 | D39: 0 | E39: 0 | F39: 0 | G39: 0 | H39: 0
A40: 4700 | B40: Transferencias a la Seguridad Social | C40: 0 | D40: 0 | E40: 0 | F40: 0 | G40: 0 | H40: 0
...

Sheet CTG
A1: Universidad Tecnológica del Norte de Guanajuato Estado Analítico del Ejercicio del Presupuesto de Egresos Clasificación Económica (por Tipo de Gasto) Del 01 de Enero al 31 de Diciembre de 2024
B2: Egresos | G2: Subejercicio
A3: Concepto | B3: Aprobado | C3: Ampliaciones/ (Reducciones) | D3: Modificado | E3: Devengado | F3: Pagado
B4: 1 | C4: 2 | D4: 3 = (1 + 2 ) | E4: 4 | F4: 5 | G4: 6 = ( 3 - 4 )
A6: Gasto Corriente | B6: 1.1576924e+08 | C6: 6647791.2 | D6: =B6+C6 -> 1.2241703e+08 | E6: 1.1253895e+08 | F6: 1.1077965e+08 | G6: =D6-E6 -> 9878074.8
A8: Gasto de Capital | B8: 161000 | C8: 3333363.7 | D8: =B8+C8 -> 3494363.7 | E8: 2511736.4 | F8: 1613199.7 | G8: =D8-E8 -> 982627.31
A10: Amortización de la Deuda y Disminución de Pasivos | B10: 0 | C10: 0 | D10: =B10+C10 -> 0 | E10: 0 | F10: 0 | G10: =D10-E10 -> 0
A12: Pensiones y Jubilaciones | B12: 0 | C12: 0 | D12: =B12+C12 -> 0 | E12: 0 | F12: 0 | G12: =D12-E12 -> 0
A14: Participaciones | B14: 0 | C14: 0 | D14: =B14+C14 -> 0 | E14: 0 | F14: 0 | G14: =D14-E14 -> 0
A16: Total del Gasto | B16: =SUM(B6:B14) -> 1.1593024e+08 | C16: =SUM(C6:C14) -> 9981154.9 | D16: =SUM(D6:D14) -> 1.2591139e+08 | E16: =SUM(E6:E14) -> 1.1505069e+08 | F16: =SUM(F6:F14) -> 1.1239285e+08 | G16: =SUM(G6:G14) -> 10860702
A18: Bajo protesta de decir verdad declaramos que los Estados Financieros y sus notas, son razonablemente correctos y son responsabilidad del emisor.
A25: M. en C. Andrés Salvador Casillas Barajas | E25: MAE. Loth Mariano Pérez Camacho
A26: Encargado de Rectoría de la Universidad Tecnológica del Norte de Guanajuato | E26: Encargado de la Secretaría de Administración y Finanzas de la Universidad Tecnológica del Norte de Guanajuato

Sheet CA
A1: Universidad Tecnológica del Norte de Guanajuato Estado Analítico del Ejercicio del Presupuesto de Egresos Clasificación Administrativa Del 01 de Enero al 31 de Diciembre de 2024
A3: Concepto | C3: Egresos | H3: Subejercicio
C4: Aprobado | D4: Ampliaciones/ (Reducciones) | E4: Modificado | F4: Devengado | G4: Pagado
C5: 1 | D5: 2 | E5: 3 = (1 + 2 ) | F5: 4 | G5: 5 | H5: 6 = ( 3 - 4 )
A7: 21121300701000 | C7: 10269087 | D7: -170748.12 | E7: =C7+D7 -> 10098339 | F7: 9098851.3 | G7: 8924431.1 | H7: =E7-F7 -> 999488
A8: 21121300701020 21121300701000 | C8: 5810177.4 | D8: 306908.77 | E8: =C8+D8 -> 6117086.2 | F8: 5519649.8 | G8: 5428951 | H8: =E8-F8 -> 597436.43
A9: 21121300702000 21121300701020 2112130070 | C9: 34407268 | D9: 15129946 | E9: =C9+D9 -> 49537214 | F9: 42927286 | G9: 40748985 | H9: =E9-F9 -> 6609927.5
A10: 21121300703000 21121300702000 2112130070 | C10: 64035188 | D10: -5243224.3 | E10: =C10+D10 -> 58791963 | F10: 56219078 | G10: 56004661 | H10: =E10-F10 -> 2572885
A11: 211213007A1000 21121300703000 2112130070 | C11: 1408517.6 | D11: -41727.26 | E11: =C11+D11 -> 1366790.4 | F11: 1285825.2 | G11: 1285825.2 | H11: =E11-F11 -> 80965.15
A12: Dependencia o Unidad Administrativa 7 | C12: 0 | D12: 0 | E12: =C12+D12 -> 0 | F12: 0 | G12: 0 | H12: =E12-F12 -> 0
A13: Dependencia o Unidad Administrativa 8 | C13: 0 | D13: 0 | E13: =C13+D13 -> 0 | F13: 0 | G13: 0 | H13: =E13-F13 -> 0
A14: Dependencia o Unidad Administrativa xx | C14: 0 | D14: 0 | E14: =C14+D14 -> 0 | F14: 0 | G14: 0 | H14: =E14-F14 -> 0
B16: Total del Gasto | C16: =SUM(C7:C15) -> 1.1593024e+08 | D16: =SUM(D7:D15) -> 9981154.9 | E16: =C16+D16 -> 1.2591139e+08 | F16: =SUM(F7:F14) -> 1.1505069e+08 | G16: =SUM(G7:G14) -> 1.1239285e+08 | H16: =E16-F16 -> 10860702
A19: Gobierno (Federal/Estatal/Municipal) de _Universidad Tecnológica del Norte de Guanajuato Estado Analítico del Ejercicio del Presupuesto de Egresos Clasificación Administrativa Del 01 de Enero al 31 de Diciembre de 2024
A21: Concepto | C21: Egresos | H21: Subejercicio
C22: Aprobado | D22: Ampliaciones/ (Reducciones) | E22: Modificado | F22: Devengado | G22: Pagado
C23: 1 | D23: 2 | E23: 3 = (1 + 2 ) | F23: 4 | G23: 5 | H23: 6 = ( 3 - 4 )
A25: Poder Ejecutivo
A26: Poder Legislativo | D26: No aplica
A27: Poder Judicial
A28: Órganos Autónomos
B30: Total del Gasto
A33: Universidad Tecnológica del Norte de Guanajuato Estado Analítico del Ejercicio del Presupuesto de Egresos Clasificación Administrativa Del 01 de Enero al 31 de Diciembre de 2024
A34: Concepto | C34: Egresos | H34: Subejercicio
C35: Aprobado | D35: Ampliaciones/ (Reducciones) | E35: Modificado | F35: Devengado | G35: Pagado
C36: 1 | D36: 2 | E36: 3 = (1 + 2 ) | F36: 4 | G36: 5 | H36: 6 = ( 3 - 4 )
B38: Entidades Paraestatales y Fideicomisos No Empresariales y No Financieros | C38: 1.1593024e+08 | D38: 9981154.9 | E38: =C38+D38 -> 1.2591139e+08 | F38: 1.1505069e+08 | G38: 1.1239285e+08 | H38: =E38-F38 -> 10860702
B40: Instituciones Públicas de la Seguridad Social | C40: 0 | D40: 0 | E40: =C40+D40 -> 0 | F40: 0 | G40: 0 | H40: =E40-F40 -> 0
B42: Entidades Paraestatales Empresariales No Financieras con Participación Estatal Mayoritaria | C42: 0 | D42: 0 | E42: =C42+D42 -> 0 | F42: 0 | G42: 0 | H42: =E42-F42 -> 0
B44: Fideicomisos Empresariales No Financieros con Participación Estatal Mayoritaria | C44: 0 | D44: 0 | E44: =C44+D44 -> 0 | F44: 0 | G44: 0 | H44: =E44-F44 -> 0
B46: Entidades Paraestatales Empresariales Financieras Monetarias con Participación Estatal Mayoritaria | C46: 0 | D46: 0 | E46: =C46+D46 -> 0 | F46: 0 | G46: 0 | H46: =E46-F46 -> 0
B48: Entidades Paraestatales Finanacieras No Monetarias con Participacion Estatal Mayoritaria | C48: 0 | D48: 0 | E48: =C48+D48 -> 0 | F48: 0 | G48: 0 | H48: =E48-F48 -> 0
B50: Fideicomisos Financieros Públicos con Participación Estatal Mayoritaria | C50: 0 | D50: 0 | E50: =C50+D50 -> 0 | F50: 0 | G50: 0 | H50: =E50-F50 -> 0
B52: Total del Gasto | C52: =SUM(C38:C50) -> 1.1593024e+08 | D52: =SUM(D38:D50) -> 9981154.9 | E52: =C52+D52 -> 1.2591139e+08 | F52: =SUM(F38:F50) -> 1.1505069e+08 | G52: =SUM(G38:G50) -> 1.1239285e+08 | H52: =E52-F52 -> 10860702
B54: Bajo protesta de decir verdad declaramos que los Estados Financieros y sus notas, son razonablemente correctos y son responsabilidad del emisor.
B58: M. en C. Andrés Salvador Casillas Barajas | F58: MAE. Loth Mariano Pérez Camacho
B59: Encargado de Rectoría de la Universidad Tecnológica del Norte de Guanajuato | F59: Encargado de la Secretaría de Administración y Finanzas de la Universidad Tecnológica del Norte de Guanajuato

Sheet CFG
A1: Universidad Tecnológica del Norte de Guanajuato Estado Analítico del Ejercicio del Presupuesto de Egresos Clasificación Funcional (Finalidad y Función) Del 01 de Enero al 31 de Diciembre de 2024
B2: Egresos | G2: Subejercicio
A3: Concepto | B3: Aprobado | C3: Ampliaciones/ (Reducciones) | D3: Modificado | E3: Devengado | F3: Pagado
B4: 1 | C4: 2 | D4: 3 = (1 + 2 ) | E4: 4 | F4: 5 | G4: 6 = ( 3 - 4 )
A6: Gobierno | B6: =SUM(B7:B15) -> 53327910 | C6: =SUM(C7:C15) -> 4591331.2 | D6: =SUM(D7:D15) -> 57919241 | E6: =SUM(E7:E15) -> 52923318 | F6: =SUM(F7:F15) -> 51700712 | G6: =SUM(G7:G15) -> 4995923
A7: Legislación | B7: 0 | C7: 0 | D7: 0 | E7: 0 | F7: 0 | G7: 0
A8: Justicia | B8: 0 | C8: 0 | D8: 0 | E8: 0 | F8: 0 | G8: 0
A9: Coordinación de la Politica de Gobierno | B9: =115930238.38*0.46 -> 53327910 | C9: =CA!D16*46% -> 4591331.2 | D9: =+B9+C9 -> 57919241 | E9: =CA!F16*46% -> 52923318 | F9: =CA!G16*46% -> 51700712 | G9: =D9-E9 -> 4995923
A10: Relaciones Exteriores | B10: 0 | C10: 0 | D10: 0 | E10: 0 | F10: 0 | G10: 0
A11: Asuntos Financieros y Hacendarios | B11: 0 | C11: 0 | D11: 0 | E11: 0 | F11: 0 | G11: 0
A12: Seguridad Nacional | B12: 0 | C12: 0 | D12: 0 | E12: 0 | F12: 0 | G12: 0
A13: Asuntos de Orden Público y de Seguridad Interior | B13: 0 | C13: 0 | D13: 0 | E13: 0 | F13: 0 | G13: 0
A14: Otros Servicios Generales | B14: 0 | C14: 0 | D14: 0 | E14: 0 | F14: 0 | G14: 0
A16: Desarrollo Social | B16: =SUM(B17:B23) -> 62602329 | C16: =SUM(C17:C23) -> 5389823.6 | D16: =SUM(D17:D23) -> 67992152 | E16: =SUM(E17:E23) -> 62127373 | F16: =SUM(F17:F23) -> 60692141 | G16: =SUM(G17:G23) -> 5864779.1
A17: Protección Ambiental | B17: 0 | C17: 0 | D17: 0 | E17: 0 | F17: 0 | G17: 0
A18: Vivienda y Servicios a la Comunidad | B18: 0 | C18: 0 | D18: 0 | E18: 0 | F18: 0 | G18: 0
A19: Salud | B19: 0 | C19: 0 | D19: 0 | E19: 0 | F19: 0 | G19: 0
A20: Recreación, Cultura y Otras Manifestaciones Sociales | B20: 0 | C20: 0 | D20: 0 | E20: 0 | F20: 0 | G20: 0
A21: Educación | B21: =115930238.38*0.54 -> 62602329 | C21: =CA!D16*54% -> 5389823.6 | D21: =+B21+C21 -> 67992152 | E21: =CA!F16*54% -> 62127373 | F21: =CA!G16*54% -> 60692141 | G21: =D21-E21 -> 5864779.1
A22: Protección Social | B22: 0 | C22: 0 | D22: 0 | E22: 0 | F22: 0 | G22: 0
A23: Otros Asuntos Sociales | B23: 0 | C23: 0 | D23: 0 | E23: 0 | F23: 0 | G23: 0
A25: Desarrollo Económico | B25: 0 | C25: 0 | D25: 0 | E25: 0 | F25: 0 | G25: 0
A26: Asuntos Económicos, Comerciales y Laborales en General | B26: 0 | C26: 0 | D26: 0 | E26: 0 | F26: 0 | G26: 0
A27: Agropecuaria, Silvicultura, Pesca y Caza | B27: 0 | C27: 0 | D27: 0 | E27: 0 | F27: 0 | G27: 0
A28: Combustibles y Energía | B28: 0 | C28: 0 | D28: 0 | E28: 0 | F28: 0 | G28: 0
A29: Minería, Manufacturas y Construcción | B29: 0 | C29: 0 | D29: 0 | E29: 0 | F29: 0 | G29: 0
A30: Transporte | B30: 0 | C30: 0 | D30: 0 | E30: 0 | F30: 0 | G30: 0
A31: Comunicaciones | B31: 0 | C31: 0 | D31: 0 | E31: 0 | F31: 0 | G31: 0
A32: Turismo | B32: 0 | C32: 0 | D32: 0 | E32: 0 | F32: 0 | G32: 0
A33: Ciencia, Tecnología e Innovación | B33: 0 | C33: 0 | D33: 0 | E33: 0 | F33: 0 | G33: 0
A34: Otras Industrias y Otros Asuntos Económicos | B34: 0 | C34: 0 | D34: 0 | E34: 0 | F34: 0 | G34: 0
... A40: Adeudos de Ejercicios Fiscales Anteriores | B40: 0 | C40: 0 | D40: 0 | E40: 0 | F40: 0 | G40: 0
A42: Total del Gasto | B42: =B6+B16+B25+B36 -> 1.1593024e+08 | C42: =C6+C16+C25+C36 -> 9981154.9 | D42: =D6+D16+D25+D36 -> 1.2591139e+08 | E42: =E6+E16+E25+E36 -> 1.1505069e+08 | F42: =F6+F16+F25+F36 -> 1.1239285e+08 | G42: =G6+G16+G25+G36 -> 10860702
A44: Bajo protesta de decir verdad declaramos que los Estados Financieros y sus notas, son razonablemente correctos y son responsabilidad del emisor.
A49: M. en C. Andrés Salvador Casillas Barajas | E49: MAE. Loth Mariano Pérez Camacho
A50: Encargado de Rectoría de la Universidad Tecnológica del Norte de Guanajuato | E50: Encargado de la Secretaría de Administración y Finanzas de la Universidad Tecnológica del Norte de Guanajuato

Sheet ENT
A1: Universidad Tecnológica del Norte de Guanajuato Endeudamiento Neto Del 01 de Enero al 31 de Diciembre de 2024
A3: Identificación de Crédito o Instrumento | B3: Contratación / Colocación | C3: Amortización | D3: Endeudamiento Neto
B4: A | C4: B | D4: C = A - B
A5: Créditos Bancarios
A6: Durante el periodo no se obtuvieron créditos.
B9: NO APLICA
A14: Total Créditos Bancarios | B14: 0 | C14: 0 | D14: 0
A16: Otros Instrumentos de Deuda
A17: Durante el periodo no se tienen instrumentos.
B21: NO APLICA
A27: Total Otros Instrumentos de Deuda | B27: 0 | C27: 0 | D27: 0
A29: TOTAL | B29: 0 | C29: 0 | D29: 0
A31: Bajo protesta de decir verdad declaramos que los Estados Financieros y sus notas, son razonablemente
A32: correctos y son responsabilidad del emisor.
A37: M. en C. Andrés Salvador Casillas Barajas | C37: MAE. Loth Mariano Pérez Camacho
A38: Encargado de Rectoría de la Universidad Tecnológica del Norte de Guanajuato | C38: Encargado de la Secretaría de Administración y Finanzas de la Universidad Tecnológica del Norte de Guanajuato

Sheet IND
A1: Universidad Tecnológica del Norte de Guanajuato Intereses de la Deuda Del 01 de Enero al 31 de Diciembre de 2024
A3: Identificación de Crédito o Instrumento | B3: Devengado | C3: Pagado
A4: Créditos Bancarios
A5: Durante el periodo no se obtuvieron créditos.
A9: NO APLICA
A14: Total de Intereses de Créditos Bancarios | B14: 0 | C14: 0
A16: Otros Instrumentos de Deuda
A17: Durante el periodo no se tienen instrumentos.
A21: NO APLICA
A26: Total de Intereses de Otros Instrumentos de Deuda | B26: 0 | C26: 0
A28: TOTAL | B28: 0 | C28: 0
A30: Bajo protesta de decir verdad declaramos que los Estados Financieros y sus notas, son razonablemente correctos
A31: y son responsabilidad del emisor.
A37: M. en C. Andrés Salvador Casillas Barajas | B37: MAE. Loth Mariano Pérez Camacho
A38: Encargado de Rectoría de la Universidad Tecnológica del Norte de Guanajuato | B38: Encargado de la Secretaría de Administración y Finanzas de la Universidad Tecnológica del Norte de Guanajuato

Sheet FFF
A1: Universidad Tecnológica del Norte de Guanajuato Flujo de Fondos Del 01 de Enero al 31 de Diciembre de 2024
A2: Concepto | B2: Estimado / Aprobado | C2: Devengado | D2: Recaudado / Pagado
A3: Rubros de Ingresos | B3: =SUM(B4:B13) -> 1.1593024e+08 | C3: =SUM(C4:C13) -> 1.2507516e+08 | D3: =SUM(D4:D13) -> 1.2506378e+08
A4: Impuestos | B4: 0 | C4: 0 | D4: 0
A5: Cuotas y Aportaciones de Seguridad Social | B5: 0 | C5: 0 | D5: 0
A6: Contribuciones de Mejoras | B6: 0 | C6: 0 | D6: 0
A7: Derechos | B7: 0 | C7: 0 | D7: 0
A8: Productos | B8: 0 | C8: 0 | D8: 0
A9: Aprovechamientos | B9: 0 | C9: 0 | D9: 0
A10: Ingresos por Ventas de Bienes y Servicios | B10: 16646093 | C10: 14563510 | D10: 14552131
A11: Participaciones y Aportaciones | B11: 49374691 | C11: 56296193 | D11: 56296193
A12: Transferencias, Asignaciones, Subsidios y Otras Ayudas | B12: 49909454 | C12: 54215459 | D12: 54215459
A13: Ingresos Derivados de Financiamientos | B13: 0 | C13: 0 | D13: 0
A14: Capítulos de Gasto | B14: =SUM(B15:B23) -> 1.1593024e+08 | C14: =SUM(C15:C23) -> 1.1505069e+08 | D14: =SUM(D15:D23) -> 1.1239285e+08
A15: Servicios Personales | B15: 91940558 | C15: 83071136 | D15: 83071136
A16: Materiales y Suministros | B16: 2566998.7 | C16: 2849975.5 | D16: 1942625.4
A17: Servicios Generales | B17: 19724808 | C17: 24435899 | D17: 23626826
A18: Transferencias, Asignaciones, Subsidios y Otras Ayudas | B18: 1536874 | C18: 2181944.9 | D18: 2139066.4
A19: Bienes Muebles, Inmuebles e Intangibles | B19: 161000 | C19: 1797901.5 | D19: 899364.86
A20: Inversión Pública | B20: 0 | C20: 713834.83 | D20: 713834.83
A21: Inversiones Financieras y Otras Provisiones | B21: 0 | C21: 0 | D21: 0
A22: Participaciones y Aportaciones | B22: 0 | C22: 0 | D22: 0
A23: Deuda Pública | B23: 0 | C23: 0 | D23: 0
A24: Superávit / Déficit | B24: =B3-B14 -> 0 | C24: =C3-C14 -> 10024472 | D24: =D3-D14 -> 12670930
A26: Concepto | B26: Estimado / Aprobado | C26: Devengado | D26: Recaudado / Pagado
A27: No Etiquetado | B27: =SUM(B28:B34) -> 0 | C27: =SUM(C28:C34) -> 5168531 | D27: =SUM(D28:D34) -> 7377762.8
A28: Recursos Fiscales | B28: 0 | C28: -122172.9 | D28: -122172.9
A29: Financiamientos Internos | B29: 0 | C29: 0 | D29: 0
A30: Financiamientos Externos | B30: 0 | C30: 0 | D30: 0
A31: Ingresos Propios | B31: 0 | C31: 3927919.2 | D31: 5588632.5
A32: Recursos Federales | B32: 0 | C32: 1400784.7 | D32: 1891803.1
A33: Recursos Estatales | B33: 0 | C33: 0 | D33: 0
A34: Otros Recursos de Libre Disposición | B34: 0 | C34: -37999.95 | D34: 19500.05
A35: Etiquetado | B35: =SUM(B36:B38) -> 0 | C35: =SUM(C36:C38) -> 4855940.8 | D35: =SUM(D36:D38) -> 5293167.7
A36: Recursos Federales | B36: 0 | C36: 4855940.8 | D36: 5293167.7
A37: Recursos Estatales | B37: 0 | C37: 0 | D37: 0
A38: Otros Recursos de Transferencias Federales Etiquetadas | B38: 0 | C38: 0 | D38: 0
A39: Superávit / Déficit | B39: =B27+B35 -> 0 | C39: =C27+C35 -> 10024472 | D39: =D27+D35 -> 12670930
A41: Bajo protesta de decir verdad declaramos que los Estados Financieros y sus notas, son razonablemente correctos
A42: y son responsabilidad del emisor.
...

Sheet GCP
A1: Universidad Tecnológica del Norte de Guanajuato Gasto por Categoría Programática Del 01 de Enero al 31 de Diciembre de 2024
B2: Egresos | G2: Subejercicio
A3: Concepto | B3: Aprobado | C3: Ampliaciones/ (Reducciones) | D3: Modificado | E3: Devengado | F3: Pagado
B4: 1 | C4: 2 | D4: 3 = (1 + 2 ) | E4: 4 | F4: 5 | G4: 6 = ( 3 - 4 )
A6: Programas | B6: =B10+B19+B7+B23+B26+B31+B33+B34+B35 -> 1.1593024e+08 | C6: =C10+C19+C7+C23+C26+C31+C33+C34+C35 -> 9981154.9 | D6: =D10+D19+D7+D23+D26+D31+D33+D34+D35 -> 1.2591139e+08 | E6: =E10+E19+E7+E23+E26+E31+E33+E34+E35 -> 1.1505069e+08 | F6: =F10+F19+F7+F23+F26+F31+F33+F34+F35 -> 1.1239285e+08 | G6: =G10+G19+G7+G23+G26+G31+G33+G34+G35 -> 10860702
A7: Subsidios: Sector Social y Privado o Entidades Federativas y Municipios | B7: =B8 -> 908666.36 | C7: =C8 -> 2098240 | D7: =D8 -> 3006906.4 | E7: =E8 -> 2974211 | F7: =F8 -> 2974211 | G7: =G8 -> 32695.35
A8: Sujetos a Reglas de Operación | B8: 908666.36 | C8: 2098240 | D8: =B8+C8 -> 3006906.4 | E8: 2974211 | F8: 2974211 | G8: =D8-E8 -> 32695.35
A9: Otros Subsidios | B9: 0 | C9: 0 | D9: 0 | E9: 0 | F9: 0 | G9: 0
A10: Desempeño de las Funciones | B10: =SUM(B11:B18) -> 84482862 | C10: =SUM(C11:C18) -> -5371128.7 | D10: =SUM(D11:D18) -> 79111733 | E10: =SUM(E11:E18) -> 71225392 | F10: =SUM(F11:F18) -> 69449502 | G10: =SUM(G11:G18) -> 7886340.8
A11: Prestación de Servicios Públicos | B11: 67684566 | C11: -1463618.4 | D11: =B11+C11 -> 66220948 | E11: 59582614 | F11: 57926090 | G11: =D11-E11 -> 6638333.7
A12: Provisión de Bienes Públicos | B12: 0 | C12: 0 | D12: 0 | E12: 0 | F12: 0 | G12: =D12-E12 -> 0
A13: Planeación, seguimiento y evaluación de políticas públicas | B13: 16798295 | C13: -3907510.3 | D13: =B13+C13 -> 12890785 | E13: 11642778 | F13: 11523413 | G13: =D13-E13 -> 1248007.1
A14: Promoción y fomento | B14: 0 | C14: 0 | D14: 0 | E14: 0 | F14: 0 | G14: 0
A15: Regulación y supervisión | B15: 0 | C15: 0 | D15: 0 | E15: 0 | F15: 0 | G15: 0
A16: Funciones de las Fuerzas Armadas (Únicamente Gobierno Federal) | B16: 0 | C16: 0 | D16: 0 | E16: 0 | F16: 0 | G16: 0
A17: Específicos | B17: 0 | C17: 0 | D17: 0 | E17: 0 | F17: 0 | G17: 0
A18: Proyectos de Inversión | B18: 0 | C18: 0 | D18: 0 | E18: 0 | F18: 0 | G18: 0
A19: Administrativos y de Apoyo | B19: =SUM(B20:B22) -> 30538710 | C19: =SUM(C20:C22) -> 13254044 | D19: =SUM(D20:D22) -> 43792754 | E19: =SUM(E20:E22) -> 40851088 | F19: =SUM(F20:F22) -> 39969140 | G19: =SUM(G20:G22) -> 2941665.9
A20: Apoyo al proceso presupuestario y para mejorar la eficiencia institucional | B20: 29130193 | C20: 13295771 | D20: =B20+C20 -> 42425963 | E20: 39565263 | F20: 38683314 | G20: =D20-E20 -> 2860700.8
A21: Apoyo a la función pública y al mejoramiento de la gestión | B21: 1408517.6 | C21: -41727.26 | D21: =B21+C21 -> 1366790.4 | E21: 1285825.2 | F21: 1285825.2 | G21: =D21-E21 -> 80965.15
A22: Operaciones ajenas | B22: 0 | C22: 0 | D22: 0 | E22: 0 | F22: 0 | G22: 0
A23: Compromisos | B23: 0 | C23: 0 | D23: 0 | E23: 0 | F23: 0 | G23: 0
A24: Obligaciones de cumplimiento de resolución jurisdiccional | B24: 0 | C24: 0 | D24: 0 | E24: 0 | F24: 0 | G24: 0
A25: Desastres Naturales | B25: 0 | C25: 0 | D25: 0 | E25: 0 | F25: 0 | G25: 0
A26: Obligaciones | B26: 0 | C26: 0 | D26: 0 | E26: 0 | F26: 0 | G26: 0
A27: Pensiones y jubilaciones | B27: 0 | C27: 0 | D27: 0 | E27: 0 | F27: 0 | G27: 0
A28: Aportaciones a la seguridad social | B28: 0 | C28: 0 | D28: 0 | E28: 0 | F28: 0 | G28: 0
A29: Aportaciones a fondos de estabilización | B29: 0 | C29: 0 | D29: 0 | E29: 0 | F29: 0 | G29: 0
A30: Aportaciones a fondos de inversión y reestructura de pensiones | B30: 0 | C30: 0 | D30: 0 | E30: 0 | F30: 0 | G30: 0
A31: Programas de Gasto Federalizado | B31: 0 | C31: 0 | D31: 0 | E31: 0 | F31: 0 | G31: 0
A32: Gasto Federalizado | B32: 0 | C32: 0 | D32: 0 | E32: 0 | F32: 0 | G32: 0
A33: Participaciones a entidades federativas y municipios | B33: 0 | C33: 0 | D33: 0 | E33: 0 | F33: 0 | G33: 0
... A35: Adeudos de ejercicios fiscales anteriores | B35: 0 | C35: 0 | D35: 0 | E35: 0 | F35: 0 | G35: 0
A37: Total del Gasto | B37: =B7+B10+B19+B23+B26+B31+B33+B34+B35 -> 1.1593024e+08 | C37: =C7+C10+C19+C23+C26+C31+C33+C34+C35 -> 9981154.9 | D37: =D7+D10+D19+D23+D26+D31+D33+D34+D35 -> 1.2591139e+08 | E37: =E7+E10+E19+E23+E26+E31+E33+E34+E35 -> 1.1505069e+08 | F37: =F7+F10+F19+F23+F26+F31+F33+F34+F35 -> 1.1239285e+08 | G37: =G7+G10+G19+G23+G26+G31+G33+G34+G35 -> 10860702
A39: Bajo protesta de decir verdad declaramos que los Estados Financieros y sus notas, son razonablemente correctos y son responsabilidad del emisor.
A44: M. en C. Andrés Salvador Casillas Barajas | E44: MAE. Loth Mariano Pérez Camacho
A45: Encargado de Rectoría de la Universidad Tecnológica del Norte de Guanajuato | E45: Encargado de la Secretaría de Administración y Finanzas de la Universidad Tecnológica del Norte de Guanajuato

Sheet PPI
B1: UNIVERSIDAD TECNOLOGICA DEL NORTE DE GUANAJUATO Programas y Proyectos de Inversión Del 1 de Enero al 31 de Diciembre de 2024
B2: PROGRAMAS Y PROYECTOS DE INVERSIÓN | D2: DENOMINACIÓN PROGRAMA/PROYECTO | E2: PATIDA DE GASTO | F2: DENOMINACIÓN PARTIDA DE GASTO | G2: INVERSIÓN
G3: INVERSIÓN INICIAL PROGRAMADA | H3: APROBADA | I3: MODIFICADA | J3: DEVENGADO | K3: PAGADO | L3: PORCENTAJE DE AVANCE FINANCIERO
L4: PAGADO/ APROBADA | M4: PAGADO/ MODIFICADA
B6: PROGRAMAS DE INVERSIÓN
C7: PROGRAMA DE INVERSIÓN DE ADQUISICIONES
B9: E017PB0398 | D9: ADMINISTRACIÓN E IMPARTICIÓN DE LOS SERVICIOS EDUCATIVOS EXISTENTES DE LA UTNG. | E9: 5190 | F9: OTROS MOBILIARIOS Y EQUIPOS DE ADMINISTRACIÓN | G9: - | H9: $ - | I9: 61924.28 | J9: 123848.56 | K9: 61924.28 | L9: 0 | M9: 1
E10: 5660 | F10: EQUIPOS DE GENERACION ELÉCTRICA, APARATOS Y ACCESO | G10: - | H10: $ - | I10: 7733.37 | J10: 15466.74 | K10: 7733.37 | L10: 0 | M10: 1
B11: E017PB0405 | D11: MANTENIMIENTO DE LA INFRAESTRUCTURA DE LA UTNG. | E11: 5150 | F11: EQUIPO DE CÓMPUTO Y DE TECNOLOGÍAS DE LA INFORMACIÓN | G11: - | H11: $ - | I11: 108779 | J11: 217558 | K11: 108779 | L11: 0 | M11: 1
E12: 5620 | F12: MAQUINARIA Y EQUIPO INDUSTRIAL | G12: 24000 | H12: 24000 | I12: $ - | J12: $ - | K12: $ - | L12: 0 | M12: 0
E13: 5660 | F13: EQUIPOS DE GENERACIÓN ELÉCTRICA, APARATOS Y ACCESO | G13: - | H13: $ - | I13: 52215.45 | J13: 104430.9 | K13: 52215.45 | L13: 0 | M13: 1
E14: 5670 | F14: HERRAMIENTAS Y MAQUINAS-HERRAMIENTA | G14: 60000 | H14: 60000 | I14: 144634.56 | J14: 272553.05 | K14: 136690.62 | L14: 2.28 | M14: 0.95
B15: E017PB04052399 | D15: R23 MANTENIMIENTO DE LA INFRAESTRUCTURA UTNG | E15: 5150 | F15: EQUIPO DE CÓMPUTO Y DE TECNOLOGÍAS DE LA INFORMACIÓN | G15: - | H15: $ - | I15: 384800 | J15: 769600 | K15: 384800 | L15: 0 | M15: 1
E16: 5670 | F16: HERRAMIENTAS Y MAQUINAS-HERRAMIENTA | G16: - | H16: $ - | I16: 34758.19 | J16: 69516.38 | K16: 34758.19 | L16: 0 | M16: 1
B17: E038PB0407 | D17: OPERACIÓN DE SERVICIOS DE VINCULACIÓN CON EL ENTORNO Y LA UTNG. | E17: 5190 | F17: OTROS MOBILIARIOS Y EQUIPOS DE ADMINISTRACIÓN | G17: 30000 | H17: 30000 | I17: 30000 | J17: 39600 | K17: 19800 | L17: 0.66 | M17: 0.66
B18: E038PB0410 | D18: IMPULSO AL EMPRENDIMIENTO E INCUBACIÓN DE EMPRESAS EN LA UTNG | E18: 5110 | F18: MUEBLES DE OFICINA Y ESTANTERÍA | G18: - | H18: $ - | I18: 25000 | J18: $ - | K18: $ - | L18: 0 | M18: 0
E19: 5150 | F19: EQUIPO DE CÓMPUTO Y DE TECNOLOGÍAS DE LA INFORMACIÓN | G19: - | H19: $ - | I19: $ - | J19: $ - | K19: $ - | L19: 0 | M19: 0
E20: 5670 | F20: HERRAMIENTAS Y MAQUINAS-HERRAMIENTA | G20: - | H20: $ - | I20: 33000 | J20: $ - | K20: $ - | L20: 0 | M20: 0
B21: E038PB04102399 | D21: R23 EMPREND. E INCUBACIÓN DE EMPRESAS UTNG | E21: 5210 | F21: EQUIPO Y APARATOS AUDIOVISUALES | G21: - | H21: $ - | I21: 21000 | J21: 42000 | K21: 21000 | L21: 0 | M21: 1
E22: 5230 | F22: CÁMARAS FOTOGRÁFICAS Y DE VIDEO | G22: - | H22: $ - | I22: 36500 | J22: 73000 | K22: 36500 | L22: 0 | M22: 1
B23: M007GC2111 | D23: OPERACIÓN DEL MODELO DE PLANEACIÓN Y EVALUACIÓN DE LA UTNG. | E23: 5150 | F23: EQUIPO DE CÓMPUTO Y DE TECNOLOGÍAS DE LA INFORMACIÓN | G23: - | H23: $ - | I23: 18926.56 | J23: 37853.12 | K23: 18926.56 | L23: 0 | M23: 1
B24: P005PA0404 | D24: GESTIÓN DE CERTIFICACIÓN DE PROCESOS DE LA UTNG. | E24: 5150 | F24: EQUIPO DE CÓMPUTO Y DE TECNOLOGÍAS DE LA INFORMACIÓN | G24: 41000 | H24: 41000 | I24: 51438.84 | J24: 20877.68 | K24: 10438.84 | L24: 0.25 | M24: 0.2
E25: 5190 | F25: OTROS MOBILIARIOS Y EQUIPOS DE ADMINISTRACIÓN | G25: 6000 | H25: 6000 | I25: 6000 | J25: 11597.1 | K25: 5798.55 | L25: 0.97 | M25: 0.97
B28: TOTAL PROGRAMA DE INVERSIÓN DE ADQUISICIONES | G28: 161000 | H28: 161000 | I28: 1016710.2 | J28: 1797901.5 | K28: 899364.86 | L28: 5.59 | M28: 0.88
B30: PROYECTOS DE INVERSIÓN
C31: PROGRAMA DE INVERSIÓN DE INFRAESTRUCTURA
B33: E017QA07152401 | D33: EQUIPAMIENTO EDIFICIO DE DOCENCIA F | E33: 6220 | F33: EDIFICACION NO HABITACIONAL | G33: 0 | H33: 0 | I33: 2477653.4 | J33: 713834.83 | K33: 713834.83 | L33: 0 | M33: 0.28810923
B36: TOTAL PROYECTOS DE INVERSIÓN DE INFRAESTRUCTURA | G36: 0 | H36: 0 | I36: =I33 -> 2477653.4 | J36: =J33 -> 713834.83 | K36: =K33 -> 713834.83 | L36: 0 | M36: 0
B38: TOTAL PROGRAMAS Y PROYECTOS DE INVERSIÓN | G38: =G28+G36 -> 161000 | H38: =H28+H36 -> 161000 | I38: =I28+I36 -> 3494363.7 | J38: =J28+J36 -> 2511736.4 | K38: =K28+K36 -> 1613199.7 | L38: 4.5922164 | M38: 0.21897324
B40: “Bajo protesta de decir verdad declaramos que los Estados Financieros y sus notas, son razonablemente correctos y son responsabilidad del emisor”
D45: M. en C. Andrés Salvador Casillas Barajas | H45: MAE. Loth Mariano Pérez Camacho
D46: Encargado de Rectoría de la Universidad Tecnológica del Norte de Guanajuato | H46: Encargado de la Secretaría de Administración y Finanzas de la Universidad Tecnológica del Norte de Guanajuato

Sheet IR
A1: Universidad Tecnlógica del Norte de Guanajuato Indicadores de Resultados Del 1 de Enero al 31 de Diciembre 2024
A2: Programa Presupuestario | F2: Prespuesto del programa presupuestario | K2: MIR | N2: Indicadores | U2: Resultado del indicador
A3: Clasificación Programática acorde al CONAC | B3: Clave del Programa presupuestario | C3: Nombre del programa presupuestario | D3: Clasificación funcional del gasto al que corresponde el programa presupuestario | E3: Nombre de la dependencia o entidad que lo ejecuta | F3: Aprobado | G3: Modificado | H3: Devengado | I3: Ejercido | J3: Pagado | K3: Cuenta con MIR (SI/NO) | L3: Nivel de la MIR del programa | M3: Descripción del resumen narrativo (FIN, Propósito, componentes y actividades) | N3: Nombre del Indicador | O3: Nivel de la MIR, al que corresponde el indicador | P3: Fórmula de cálculo | Q3: Descripción de variables de la fórmula | R3: Meta del indicador Programada | S3: Meta del indicador Modificada | T3: Meta del indicador alcanzada | U3: Valor del numerador de la formula | V3: Valor del denominador de la formula | W3: Unidad de medida de las variables del indicador
A4: 1 | B4: 2 | C4: 3 | D4: 4 | E4: 5 | F4: 6 | G4: 7 | H4: 8 | I4: 9 | J4: 10 | K4: 11 | L4: 12 | M4: 13 | N4: 14 | O4: 15 | P4: 16 | Q4: 17 | R4: 18 | S4: 19 | T4: 20 | U4: 21 | V4: 22 | W4: 23
A5: M005 | B5: M005GA2006 | C5: DIRECCIÓN ESTRATÉGICA DE LA UTNG. | D5: 253 | E5: Universidad Tecnológica del Norte de Guanajuato | F5: 3672338.5 | G5: 3643769 | H5: 0 | I5: 3282781.8 | J5: 3282781.8 | K5: No | L5: N/A | M5: N/A | N5: N/A | O5: Componente | P5: N/A | Q5: N/A | R5: N/A | S5: N/A | T5: N/A | U5: N/A | V5: N/A | W5: N/A
A6: M006 | B6: M006GB1038 | C6: ADMINISTRACIÓN DE LOS RECURSOS HUMANOS, MATERIALES, FINANCIEROS Y DE SERVICIOS DE LA UTNG. | D6: 253 | E6: Universidad Tecnológica del Norte de Guanajuato | F6: 20485939 | G6: =33895288.17+152471.63 -> 34047760 | H6: 0 | I6: =31124155.26+152471.63 -> 31276627 | J6: =31094554.26+152471.63 -> 31247026 | K6: No | L6: N/A | M6: N/A | N6: N/A | O6: Componente | P6: N/A | Q6: N/A | R6: N/A | S6: N/A | T6: N/A | U6: N/A | V6: N/A | W6: N/A
A7: M007 | B7: M007GC2111 | C7: OPERACIÓN DEL MODELO DE PLANEACIÓN Y EVALUACIÓN DE LA UTNG. | D7: 253 | E7: Universidad Tecnológica del Norte de Guanajuato | F7: 4971915.3 | G7: 4734434.6 | H7: 0 | I7: 4153506.8 | J7: 4153506.8 | K7: No | L7: N/A | M7: N/A | N7: N/A | O7: Componente | P7: N/A | Q7: N/A | R7: N/A | S7: N/A | T7: N/A | U7: N/A | V7: N/A | W7: N/A
A8: O009 | B8: O009GD1263 | C8: OPERACIÓN DEL ÓRGANO INTERNO DE CONTROL DE LA UNIVERSIDAD TECNOLÓGICA DEL NORTE DE GUANAJUATO. | D8: 134 | E8: Universidad Tecnológica del Norte de Guanajuato | F8: 1408517.6 | G8: 1366790.4 | H8: 0 | I8: 1285825.2 | J8: 1285825.2 | K8: No | L8: N/A | M8: N/A | N8: N/A | O8: Componente | P8: N/A | Q8: N/A | R8: N/A | S8: N/A | T8: N/A | U8: N/A | V8: N/A | W8: N/A
A9: P005 | B9: P005PA0400 | C9: APOYOS A LA CAPACITACIÓN, ACTUALIZACIÓN Y PROFESIONALIZACIÓN DE CUERPOS ACADÉMICOS Y DIRECTIVOS DE L | D9: 253 | E9: Universidad Tecnológica del Norte de Guanajuato | F9: 1593023.3 | G9: 1558008.5 | H9: 0 | I9: 1403043.4 | J9: 1403043.4 | K9: Si | L9: Componente | M9: Los cuerpos académicos y directivos de las instituciones públicas de educación superior son capacitados, actualizados y profesionalizados | N9: Porcentaje de docentes, directivos y personal administrativo fortalecidos con alguna acción formativa y/o de desarrollo profesional | O9: Componente | P9: A/B*100 | Q9: A.Docentes, directivos y personal administrativo fortalecidos con alguna acción formativa y/o de desarrollo profesional. B.Docentes, directivos y personal administrativo programados a ser fortalecidos con alguna acción formativa y/o de desarrollo profesional. | R9: 1 | S9: 0 | T9: 0.068 | U9: 250 | V9: 250 | W9: Docente, directivo y personal administrativo
A10: P005 | B10: P005PA0403 | C10: GESTIÓN DEL PROCESO DE ACREDITACIÓN Y EVALUACIÓN DE PROGRAMAS DE IES PÚBLICAS DE LA UTNG | D10: 253 | E10: Universidad Tecnológica del Norte de Guanajuato | F10: 3185079.8 | G10: 3152000.6 | H10: 0 | I10: 2871205.7 | J10: 2871205.7 | K10: Si | L10: Componente | M10: Programas, procesos y/o planteles de instituciones de educación superior, certificados. | N10: Porcentaje de procesos educativos certificados y/o programas educativos acreditados | O10: Componente | P10: A/B*100 | Q10: A.Procesos y/o programas educativos certificados y/o acreditados B.Procesos y/o programas educativos programados a ser certificados y/o acreditados | R10: 1 | S10: 0 | T10: 0.15 | U10: 13 | V10: 13 | W10: Procesos y/o programas educativos
A11: P005 | B11: P005PA0404 | C11: GESTIÓN DE CERTIFICACIÓN DE PROCESOS DE LA UTNG. | D11: 253 | E11: Universidad Tecnológica del Norte de Guanajuato | F11: 828344.38 | G11: 924842.32 | H11: 0 | I11: 739266.76 | J11: 739266.76 | K11: Si | L11: Componente | M11: Programas, procesos y/o planteles de instituciones de educación superior, certificados | N11: Porcentaje de procesos educativos certificados y/o programas educativos acreditados | O11: Componente | P11: A/B*100 | Q11: A.Procesos y/o programas educativos certificados y/o acreditados B.Procesos y/o programas educativos programados a ser certificados y/o acreditados | R11: 1 | S11: 0 | T11: 0.15 | U11: 13 | V11: 13 | W11: Procesos y/o programas educativos
A12: E017 | B12: E017PB0398 | C12: ADMINISTRACIÓN E IMPARTICIÓN DE LOS SERVICIOS EDUCATIVOS EXISTENTES DE LA UTNG. | D12: 253 | E12: Universidad Tecnológica del Norte de Guanajuato | F12: 47085763 | G12: =43596385.71+170210.68 -> 43766596 | H12: 0 | I12: =42004780.95+170210.68 -> 42174992 | J12: =42004780.95+170210.68 -> 42174992 | K12: Si | L12: Componente | M12: Servicios educativos ofertados | N12: Porcentaje de alumnos atendidos | O12: Componente | P12: A/B*100 | Q12: A.Número de alumnos atendidos B.Número de alumnos proyectados a atender | R12: 1 | S12: 0 | T12: 0 | U12: 2505 | V12: 2505 | W12: Alumnos atendidos
A13: E057 | B13: E057PB0399 | C13: APLICACIÓN DE PLANES DE TRABAJO DE ATENCIÓN A LA DESERCIÓN Y REPROBACIÓN DE LA UTNG. | D13: 253 | E13: Universidad Tecnológica del Norte de Guanajuato | F13: 819187 | G13: 777254.77 | H13: 0 | I13: 706048.62 | J13: 706048.62 | K13: Si | L13: Componente | M13: Apoyo académico y/o psicosocial a alumnos en riesgo de deserción o reprobación otorgados. | N13: Porcentaje de alumnos en riesgo de deserción y reprobación atendidos con apoyo académico y/o psicosocial | O13: Componente | P13: A/B*100 | Q13: A.Alumnos en riesgo de deserción y reprobación atendidos con apoyo académico y/o psicosocial B.Alumnos en riesgo de deserción y reprobación, identificados | R13: 1 | S13: 0 | T13: 0.09 | U13: 2362 | V13: 2362 | W13: Alumnos atendidos
A14: E038 | B14: E038PB0401 | C14: CAPACITACIÓN Y CERTIFICACIÓN DE COMPETENCIAS OCUPACIONALES DE LA UTNG. | D14: 253 | E14: Universidad Tecnológica del Norte de Guanajuato | F14: 446826.38 | G14: 439658.52 | H14: 0 | I14: 398804.13 | J14: 398804.13 | K14: Si | L14: Componente | M14: Programas de certificación de competencias laborales ofertados en Educación Superior | N14: Porcentaje de alumnos con formación y/o certificados en competencias laborales | O14: Componente | P14: A/B*100 | Q14: A.Alumnos con formación y/o certificados en competencias laborales B.Alumnos con formación y/o certificados en competencias laborales, programados | R14: 1 | S14: 0 | T14: 1 | U14: 643 | V14: 643 | W14: Alumnos atendidos
A15: P005 | B15: P005PB0402 | C15: REALIZACIÓN DE CURSOS Y EVENTOS DE FORTALECIMIENTO A LA FORMACIÓN INTEGRAL DE LOS ALUMNOS DE LA UTN | D15: 253 | E15: Universidad Tecnológica del Norte de Guanajuato | F15: 11191848 | G15: 7255933.8 | H15: 0 | I15: 6509897.1 | J15: 6509897.1 | K15: Si | L15: Componente | M15: Cursos, actividades y talleres para el desarrollo complementario de los alumnos impartidos. UTNG | N15: Porcentaje de estudiantes participando en cursos, actividades y talleres complementarias para el desarrollo integral | O15: Componente | P15: A/B*100 | Q15: A.Estudiantes participando en cursos, actividades y talleres complementarias para el desarrollo integral B.Estudiantes progragamos para participar en cursos, actividades y talleres complementarias para el desarrollo integral | R15: 1 | S15: 0 | T15: 0.26 | U15: 1500 | V15: 1500 | W15: Estudiantes
A16: E017 | B16: E017PB0405 | C16: MANTENIMIENTO DE LA INFRAESTRUCTURA DE LA UTNG. | D16: 253 | E16: Universidad Tecnológica del Norte de Guanajuato | F16: 12328306 | G16: =10140119.26+419558.19+3371768.2 -> 13931446 | H16: 0 | I16: =6071407.54+419558.19+2586956.02 -> 9077921.8 | J16: =6071407.54+419558.19+1607949.61 -> 8098915.3 | K16: Si | L16: Componente | M16: Infraestructura educativa consolidada. | N16: Porcentaje de necesidades de infraestructura y equipamiento atendidas | O16: Componente | P16: A/B*100 | Q16: A.Necesidades de infraestructura y equipamiento atendidas B.Necesidades de infraestructura y equipamiento identificadas | R16: 1 | S16: 0 | T16: 0 | U16: 6 | V16: 6 | W16: Acciones de infraestructura
A17: E057 | B17: E057PB0406 | C17: OPERACIÓN DE OTORGAMIENTO DE BECAS Y APOYOS A LOS ALUMNOS DE LA UTNG. | D17: 253 | E17: Universidad Tecnológica del Norte de Guanajuato | F17: 796489.34 | G17: 795293.4 | H17: 0 | I17: 748875.77 | J17: 748875.77 | K17: Si | L17: Componente | M17: Becas y apoyos otorgados a estudiantes de educación media superior y superior | N17: Porcentaje de becas y apoyos otorgados | O17: Componente | P17: A/B*100 | Q17: A.Becas y apoyos otorgados B.Becas y apoyos programados a otorgar | R17: 1 | S17: 0 | T17: 0.19 | U17: 900 | V17: 900 | W17: Becas y apoyos educativos
A18: E038 | B18: E038PB0407 | C18: OPERACIÓN DE SERVICIOS DE VINCULACIÓN CON EL ENTORNO Y LA UTNG. | D18: 253 | E18: Universidad Tecnológica del Norte de Guanajuato | F18: 3838214.9 | G18: 3933441.8 | H18: 0 | I18: 3536255.5 | J18: 3536255.5 | K18: Si | L18: Componente | M18: Vinculación con el entorno operando | N18: Porcentaje de alumnos atendidos con acciones de fortalecimiento | O18: Componente | P18: A/B*100 | Q18: A.Alumnos atendidos con acciones de fortalecimiento para la vinculación con el entorno B.Alumnos programados a ser atendidos con acciones de fortalecimiento para la vinculación con el entorno | R18: 1 | S18: 0 | T18: 0.17 | U18: 1498 | V18: 1498 | W18: Alumnos atendidos
A19: E038 | B19: E038PB0409 | C19: PROGRAMA DE CAPACITACIÓN PARA ATENCIÓN DE NECESIDADES DE LA INDUSTRIA DE NUEVA CREACIÓN EN EL ENTORN | D19: 253 | E19: Universidad Tecnológica del Norte de Guanajuato | F19: 397817.02 | G19: 393613 | H19: 0 | I19: 369503.11 | J19: 369503.11 | K19: Si | L19: Componente | M19: Programas (carreras) en disciplinas emergentes y áreas estratégicas ofertados. | N19: Porcentaje de alumnos atendidos en programas de disciplinas emergentes o áreas estratégicas | O19: Componente | P19: A/B*100 | Q19: A.Alumnos atendidos en programas de disciplinas emergentes o áreas estratégicas B.Alumnos programados a ser atendidos en programas de disciplinas emergentes o áreas estratégicas | R19: 1 | S19: 0 | T19: 0 | U19: 20 | V19: 20 | W19: Alumnos atendidos
A20: E038 | B20: E038PB0410 | C20: IMPULSO AL EMPRENDIMIENTO E INCUBACIÓN DE EMPRESAS EN LA UTNG | D20: 253 | E20: Universidad Tecnológica del Norte de Guanajuato | F20: 863809.15 | G20: =1029321.84+57500 -> 1086821.8 | H20: 0 | I20: =975568.2+57500 -> 1033068.2 | J20: =850568.2+57500 -> 908068.2 | K20: Si | L20: Componente | M20: Programa de aprendizaje para el liderazgo y emprendimiento ofertado en Educación Superior. UTNG | N20: Porcentaje de alumnos atendidos con acciones para el fortalecimiento de competencias emprendedoras | O20: Componente | P20: A/B*100 | Q20: A.Alumnos atendidos con acciones para el fortalecimiento de competencias emprendedoras B.Alumnos programados para ser atendidos con acciones para el fortalecimiento de competencias emprendedoras | R20: 1 | S20: 0 | T20: 0.23 | U20: 1541 | V20: 1541 | W20: Alumnos atendidos
A21: E038 | B21: E038PB2851 | C21: FORMACIÓN DUAL ESCUELA-EMPRESA EN LA UTNG | D21: 253 | E21: Universidad Tecnológica del Norte de Guanajuato | F21: 1108153.4 | G21: 1096822.5 | H21: 0 | I21: 984627.27 | J21: 984627.27 | K21: Si | L21: Componente | M21: Programas de formación dual escuela-empresa ofertados en Educación Superior | N21: Porcentaje de programas o carreras implementados bajo un esquema de formación dual | O21: Componente | P21: A/B*100 | Q21: A.Programas o carreras implementados bajo un esquema de formación dual B.Programas o carreras, programados para ser implementados bajo un esquema de formación dual | R21: 1 | S21: 0 | T21: 0 | U21: 2 | V21: 2 | W21: Programas Educativos
A22: S016 | B22: S016PB2914 | C22: GESTIÓN DE PROYECTOS DE INVESTIGACIÓN, INNOVACIÓN Y DESARROLLO TECNOLÓGICO DE LA UTNG | D22: 253 | E22: Universidad Tecnológica del Norte de Guanajuato | F22: 908666.36 | G22: 3006906.4 | H22: 0 | I22: 2974211 | J22: 2974211 | K22: Si | L22: Componente | M22: Proyectos de investigación, innovación y desarrollo tecnológico realizados por instituciones de educación superior. UTN | N22: Tasa de variación anual de proyectos de investigación | O22: Componente | P22: (A/B-1)*100 | Q22: A.Número de proyectos de investigación que se desarrollan en el presente año B.Número de proyectos de investigación que se desarrollaron en el año inmediato anterior | R22: 1 | S22: 0 | T22: 0 | U22: 0.33 | V22: 0.33 | W22: Tasa de variación
F23: =SUM(F5:F22) -> 1.1593024e+08 | G23: =SUM(G5:G22) -> 1.2591139e+08 | H23: =SUM(H5:H22) -> 0 | I23: =SUM(I5:I22) -> 1.1352646e+08 | J23: =SUM(J5:J22) -> 1.1239285e+08
A24: Bajo protesta de decir verdad declaramos que los Estados Financieros y sus Notas son razonablemente correctos y responsabilidad del emisor
C29: M. en C. Andrés Salvador Casillas Barajas | K29: MAE. Loth Mariano Pérez Camacho
C30: Encargado de Rectoría de la Universidad Tecnológica del Norte de Guanajuato | K30: Encargado de la Secretaría de Administración y Finanzas de la Universidad Tecnológica del Norte de Guanajuato

Sheet IPF
A1: UNIVERSIDAD TECNOLOGICA DEL NORTE DE GUANAJUATO INDICADORES DE POSTURA FISCAL Del 1 de Enero al 31 de Diciembre de 2024
A3: Concepto | C3: Estimado | D3: Devengado | E3: Pagado 3
A5: I. Ingresos Presupuestarios (I=1+2) | C5: 1.1593024e+08 | D5: 1.2507516e+08 | E5: 1.2506378e+08
B6: 1. Ingresos del Gobierno de la Entidad Federativa 1
B7: 2. Ingresos del Sector Paraestatal 1 | C7: 1.1593024e+08 | D7: 1.2507516e+08 | E7: 1.2506378e+08
A9: II. Egresos Presupuestarios (II=3+4) | C9: 1.1593024e+08 | D9: 1.1505069e+08 | E9: 1.1239285e+08
B10: 3. Egresos del Gobierno de la Entidad Federativa 2
B11: 4. Egresos del Sector Paraestatal 2 | C11: 1.1593024e+08 | D11: 1.1505069e+08 | E11: 1.1239285e+08
A13: III. Balance Presupuestario (Superávit o Déficit) (III = I - II) | C13: 0 | D13: 10024472 | E13: 12670930
A15: Concepto | C15: Estimado | D15: Devengado | E15: Pagado 3
A17: III. Balance Presupuestario (Superávit o Déficit) | C17: 0 | D17: 10024472 | E17: 12670930
A19: IV. Intereses, Comisiones y Gastos de la Deuda | C19: 0 | D19: 0 | E19: 0
A21: V. Balance Primario (Superávit o Déficit) (V= III - IV) | C21: 0 | D21: 10024472 | E21: 12670930
A23: Concepto | C23: Estimado | D23: Devengado | E23: Pagado 3
A25: A. Financiamiento
A27: B. Amortización de la deuda
A29: C. Endeudamiento ó desendeudamiento (C = A - B) | C29: 0 | D29: 0 | E29: 0
A32: Bajo protesta de decir verdad declaramos que los Estados Financieros y sus notas, son razonablemente correctos
A33: y son responsabilidad del emisor.
B38: M. en C. Andrés Salvador Casillas Barajas | C38: MAE. Loth Mariano Pérez Camacho
B39: Encargado de Rectoría de la Universidad Tecnológica del Norte de Guanajuato | C39: Encargado de la Secretaría de Administración y Finanzas de la Universidad Tecnológica del Norte de Guanajuato

Sheet DGTOF
A1: UNIVERSIDAD TECNOLOGICA DEL NORTE DE GUANAJUATO Formato del Ejercicio y Destino de Gasto Federalizado y Reintegros del 01 de Enero al 31 de Diciembre de 2024
A2: Programa o Fondo | B2: Destino de los Recursos | C2: Ejercicio | E2: Reintegro
C3: Devengado | D3: Pagado
A4: 2524151040 | B4: I008 FAM INF SUP 24 | C4: 713834.83 | D4: 713834.83
A5: 2524154040 | B5: I008 FAM INFRAESTRUCTURA EDUCATIVA SUPER | C5: 894114.78 | D5: 894114.78
A6: 2524221050 | B6: U006 SUBSIDIOS ODES-TECNOLÓGICAS | C6: 49662782 | D6: 49225555
A7: 2524221240 | B7: S247 PRODEP UTYP 2024 | C7: 60000 | D7: 60000
A8: 2524222050 | B8: INT U006 SUBSIDIOS ODES-TECNOLÓGICAS 24 | C8: 109507.24 | D8: 109507.24
A9: 2524222240 | B9: INT S247 PRODEP UTYP 2024 | C9: 14 | D9: 14
A27: Bajo protesta de decir verdad declaramos que los Estados Financieros y sus notas, son razonablemente correctos y son responsabilidad del emisor.
A34: M. en C. Andrés Salvador Casillas Barajas | C34: MAE. Loth Mariano Pérez Camacho
A35: Encargado de Rectoría de la Universidad Tecnológica del Norte de Guanajuato | C35: Encargado de la Secretaría de Administración y Finanzas de la Universidad Tecnológica del Norte de Guanajuato
