Workbook

Sheet Notas a los Edos Financieros
A1: UNIVERSIDAD TECNOLOGICA DEL NORTE DE GUANAJUATO | D1: EJERCICIO: | E1: 2025
A2: NOTAS DE DESGLOSE Y MEMORIA | D2: PERIODICIDAD | E2: TRIMESTRAL
A3: Correspondiente del 1 de Enero al 30 de Junio de 2025 | D3: CORTE | E3: 2
A4: NOTAS | B4: DESCRIPCIÓN
B6: I. NOTAS DE DESGLOSE:
B8: INFORMACION CONTABLE
A9: ESF-01 | B9: FONDOS CON AFECTACIÓN ESPECÍFICA E INVERSIONES FINANCIERAS
A10: ESF-02 | B10: CONTRIBUCIONES POR RECUPERAR
A11: ESF-03 | B11: CONTRIBUCIONES POR RECUPERAR CORTO PLAZO
A12: ESF-04 | B12: BIENES DISPONIBLES PARA SU TRANSFORMACIÓN ESTIMACIONES Y DETERIOROS (INVENTARIOS)
A13: ESF-05 | B13: ALMACENES
A14: ESF-06 | B14: FIDEICOMISOS, MANDATOS Y CONTRATOS ANÁLOGOS
A15: ESF-07 | B15: PARTICIPACIONES Y APORTACIONES DE CAPITAL
A16: ESF-08 | B16: BIENES MUEBLES E INMUEBLES
A17: ESF-09 | B17: INTANGIBLES Y DIFERIDOS
A18: ESF-10 | B18: ESTIMACIONES Y DETERIOROS
A19: ESF-11 | B19: OTROS ACTIVOS
A20: ESF-12 | B20: CUENTAS Y DOCUMENTOS POR PAGAR
... A35: Conciliacion_Eg | B35: CONCILIACIÓN ENTRE LOS EGRESOS PRESUPUESTARIOS Y LOS GASTOS CONTABLES
B37: II. DE MEMORIA (DE ORDEN):
A38: Memoria | B38: CONTABLES
B39: PRESUPUESTALES

Sheet ESF
A1: UNIVERSIDAD TECNOLOGICA DEL NORTE DE GUANAJUATO | G1: EJERCICIO: | H1: 2025
A2: NOTAS DE DESGLOSE ESTADO DE SITUACIÓN FINANCIERA | G2: PERIODICIDAD: | H2: ='Notas a los Edos Financieros'!E2 -> TRIMESTRAL
A3: Correspondiente del 1 de Enero al 30 de Junio de 2025 | G3: CORTE: | H3: 2
A4: Notas
A6: ESF-01 FONDOS CON AFECTACIÓN ESPECÍFICA E INVERSIONES FINANCIERAS
A7: Cuenta | B7: Nombre de la Cuenta | C7: Monto | D7: Tipo
A8: 1114 | B8: Inversiones Temporales (Hasta 3 meses) | C8: 0
A9: 1115 | B9: Fondos con Afectación Específica | C9: 0
A10: 1121 | B10: Inversiones Financieras de Corto Plazo | C10: 0
A11: 1211 | B11: Inversiones a Largo Plazo | C11: 0
A13: ESF-02 CONTRIBUCIONES POR RECUPERAR
A14: Cuenta | B14: Nombre de la Cuenta | C14: Monto | D14: 2024 | E14: 2023 | F14: 2022 | G14: 2021 | H14: Factibilidad de Cobro
A15: 1122 | B15: Cuentas por Cobrar a Corto Plazo | C15: 0 | D15: 13200 | E15: 0 | F15: 0 | G15: 0
A16: 1124 | B16: Ingresos por Recuperar a Corto Plazo | C16: 0 | D16: 0 | E16: 0 | F16: 0 | G16: 0
A18: ESF-03 CONTRIBUCIONES POR RECUPERAR CORTO PLAZO
A19: Cuenta | B19: Nombre de la Cuenta | C19: Monto | D19: A 90 Días | E19: A 180 Días | F19: A 365 Días | G19: + 365 Días | H19: Característica
A20: 1123 | B20: Deudores Diversos por Cobrar a Corto Plazo | C20: 1527477.3 | D20: 1527477.3 | E20: 0 | F20: 0 | G20: 0
A21: 1125 | B21: Deudores por Anticipos de la Tesorería a Corto Plazo | C21: 48000 | D21: 48000 | E21: 0 | F21: 0 | G21: 0
A22: 1126 | B22: Préstamos Otorgados a Corto Plazo | C22: 0 | D22: 0 | E22: 0 | F22: 0 | G22: 0
A23: 1129 | B23: Otros Derechos a Recibir Efectivo o Equivalentes a Corto Plazo | C23: 0 | D23: 0 | E23: 0 | F23: 0 | G23: 0
A24: 1131 | B24: Anticipo a Proveedores por Adquisición de Bienes y Prestación de Servicios a Corto Plazo | C24: 615344.93 | D24: 615344.93 | E24: 0 | F24: 0 | G24: 0
A25: 1132 | B25: Anticipo a Proveedores por Adquisición de Bienes Inmuebles y Muebles a Corto Plazo | C25: 0 | D25: 0 | E25: 0 | F25: 0 | G25: 0
A26: 1133 | B26: Anticipo a Proveedores por Adquisición de Bienes Intangibles a Corto Plazo | C26: 0 | D26: 0 | E26: 0 | F26: 0 | G26: 0
A27: 1134 | B27: Anticipo a Contratistas por Obras Públicas a Corto Plazo | C27: 0 | D27: 0 | E27: 0 | F27: 0 | G27: 0
A28: 1139 | B28: Otros Derechos a Recibir Bienes o Servicios a Corto Plazo | C28: 0 | D28: 0 | E28: 0 | F28: 0 | G28: 0
A30: ESF-04 BIENES DISPONIBLES PARA SU TRANSFORMACIÓN ESTIMACIONES Y DETERIOROS (INVENTARIOS)
A31: Cuenta | B31: Nombre de la Cuenta | C31: Monto | D31: Sistema de Costeo | E31: Método de Valuación | F31: Convencia de la Aplicación | G31: Impacto de Información Financiera
A32: 1140 | B32: Inventarios | C32: =SUM(C33:C37) -> 0
A33: 1141 | B33: Inventario de Mercancías para Venta | C33: 0
A34: 1142 | B34: Inventario de Mercancías Terminadas | C34: 0
A35: 1143 | B35: Inventario de Mercancías en Proceso de Elaboración | C35: 0
A36: 1144 | B36: Inventario de Materias Primas, Materiales y Suministros para Producción | C36: 0
A37: 1145 | B37: Bienes en Tránsito | C37: 0
A39: ESF-05 ALMACENES
A40: Cuenta | B40: Nombre de la Cuenta | C40: Monto | D40: Método | E40: Conveniencia de Aplicación | F40: Impacto a la informacion financiera por cambios en el metodo
A41: 1150 | B41: Almacenes | C41: =C42 -> 0
A42: 1151 | B42: Almacén de Materiales y Suministros de Consumo | C42: 0
A44: ESF-06 FIDEICOMISOS, MANDATOS Y CONTRATOS ANÁLOGOS
A45: Cuenta | B45: Nombre de la Cuenta | C45: Monto | D45: Tipo | E45: Característica
A46: 1213 | B46: Fideicomisos, Mandatos y Contratos Análogos | C46: 0
...

Sheet ACT
A1: UNIVERSIDAD TECNOLOGICA DEL NORTE DE GUANAJUATO | D1: EJERCICIO: | E1: 2025
A2: NOTAS DE DESGLOSE ESTADO DE ACTIVIDADES | D2: PERIODICIDAD: | E2: ='Notas a los Edos Financieros'!E2 -> TRIMESTRAL
A3: Correspondiente del 1 de Enero al 30 de Junio de 2025 | D3: CORTE: | E3: 2
A4: Notas
A6: ACT-01 INGRESOS DE GESTION
A7: Cuenta | B7: Nombre de la Cuenta | C7: Monto | D7: Característica Significativa
A8: 4100 | B8: INGRESOS DE GESTION | C8: =SUM(C9+C19+C25+C28+C34+C37+C46) -> 7365803.7
A9: 4110 | B9: Impuestos | C9: =SUM(C10:C18) -> 0
A10: 4111 | B10: Impuestos Sobre los Ingresos | C10: 0
A11: 4112 | B11: Impuestos Sobre el Patrimonio | C11: 0
A12: 4113 | B12: Impuestos Sobre la Producción, el Consumo y las Transacciones | C12: 0
A13: 4114 | B13: Impuestos al Comercio Exterior | C13: 0
A14: 4115 | B14: Impuestos Sobre Nóminas y Asimilables | C14: 0
A15: 4116 | B15: Impuestos Ecológicos | C15: 0
A16: 4117 | B16: Accesorios de Impuestos | C16: 0
A17: 4118 | B17: Impuestos no Comprendidos en la Ley de Ingresos Vigente, Causados en Ejercicios Fiscales Anteriores Pendientes de Liquidación o Pago | C17: 0
A18: 4119 | B18: Otros Impuestos | C18: 0
A19: 4120 | B19: Cuotas y Aportaciones de Seguridad Social | C19: =SUM(C20:C24) -> 0
A20: 4121 | B20: Aportaciones para Fondos de Vivienda | C20: 0
A21: 4122 | B21: Cuotas para la Seguridad Social | C21: 0
A22: 4123 | B22: Cuotas de Ahorro para el Retiro | C22: 0
A23: 4124 | B23: Accesorios de Cuotas y Aportaciones de Seguridad Social | C23: 0
A24: 4129 | B24: Otras Cuotas y Aportaciones para la Seguridad Social | C24: 0
A25: 4130 | B25: Contribuciones de Mejoras | C25: =SUM(C26:C27) -> 0
A26: 4131 | B26: Contribuciones de Mejoras por Obras Públicas | C26: 0
A27: 4132 | B27: Contribuciones de Mejoras no Comprendidas en la Ley de Ingresos Vigente, Causadas en Ejercicios Fiscales Anteriores Pendientes de Liquidación o Pago | C27: 0
A28: 4140 | B28: Derechos | C28: =SUM(C29:C33) -> 0
A29: 4141 | B29: Derechos por el Uso, Goce, Aprovechamiento o Explotación de Bienes de Dominio Público | C29: 0
A30: 4143 | B30: Derechos por Prestación de Servicios | C30: 0
A31: 4144 | B31: Accesorios de Derechos | C31: 0
A32: 4145 | B32: Derechos no Comprendidos en la Ley de Ingresos Vigente, Causados en Ejercicios Fiscales Anteriores Pendientes de Liquidación o Pago | C32: 0
A33: 4149 | B33: Otros Derechos | C33: 0
A34: 4150 | B34: Productos | C34: =SUM(C35:C36) -> 0
A35: 4151 | B35: Productos | C35: 0
A36: 4154 | B36: Productos no Comprendidos en la Ley de Ingresos Vigente, Causados en Ejercicios Fiscales Anteriores Pendientes de Liquidación o Pago | C36: 0
A37: 4160 | B37: Aprovechamientos | C37: =SUM(C38:C45) -> 0
A38: 4161 | B38: Incentivos Derivados de la Colaboración Fiscal | C38: 0
A39: 4162 | B39: Multas | C39: 0
A40: 4163 | B40: Indemnizaciones | C40: 0
A41: 4164 | B41: Reintegros | C41: 0
...

Sheet VHP
A1: UNIVERSIDAD TECNOLOGICA DEL NORTE DE GUANAJUATO | D1: EJERCICIO: | E1: 2025
A2: NOTAS DE DESGLOSE ESTADO DE VARIACIÓN EN LA HACIENDA PÚBLICA | D2: PERIODICIDAD: | E2: =ESF!H2 -> TRIMESTRAL
A3: Correspondiente del 1 de Enero al 30 de Junio de 2025 | D3: CORTE: | E3: 2
A5: Notas
A6: VHP-01 PATRIMONIO CONTRIBUIDO
A7: Cuenta | B7: Nombre de la Cuenta | C7: Monto | D7: Tipo | E7: Naturaleza
A8: 3110 | B8: Aportaciones | C8: 1.2177384e+08
A9: 3120 | B9: Donaciones de Capital | C9: 52953949
A10: 3130 | B10: Actualización de la Hacienda Pública/Patrimonio | C10: 0
A12: VHP-02 PATRIMONIO GENERADO
A13: Cuenta | B13: Nombre de la Cuenta | C13: Monto | D13: Procedencia
A14: 3210 | B14: Resultado del Ejercicio (Ahorro/ Desahorro) | C14: 30726660
A15: 3220 | B15: Resultados de Ejercicios Anteriores | C15: -35497954
A16: 3230 | B16: Revalúos | C16: =SUM(C17:C20) -> 0
A17: 3231 | B17: Revalúo de Bienes Inmuebles | C17: 0
A18: 3232 | B18: Revalúo de Bienes Muebles | C18: 0
A19: 3233 | B19: Revalúo de Bienes Intangibles | C19: 0
A20: 3239 | B20: Otros Revalúos | C20: 0
A21: 3240 | B21: Reservas | C21: =SUM(C22:C24) -> 1248625.2
A22: 3241 | B22: Reservas de Patrimonio | C22: 0
A23: 3242 | B23: Reservas Territoriales | C23: 0
A24: 3243 | B24: Reservas por Contingencias | C24: 1248625.2
A25: 3250 | B25: Rectificaciones de Resultados de Ejercicios Anteriores | C25: =SUM(C26:C27) -> 0
A26: 3251 | B26: Cambios en Políticas Contables | C26: 0
A27: 3252 | B27: Cambios por Errores Contables | C27: 0

Sheet EFE
A1: UNIVERSIDAD TECNOLOGICA DEL NORTE DE GUANAJUATO | D1: EJERCICIO: | E1: 2025
A2: NOTAS DE DESGLOSE ESTADO DE FLUJOS DE EFECTIVO | D2: PERIODICIDAD: | E2: =ESF!H2 -> TRIMESTRAL
A3: Correspondiente del 1 de Enero al 30 de Junio de 2025 | D3: CORTE: | E3: 2
A4: Notas
A6: EFE-01 FLUJOS DE EFECTIVO
A7: Cuenta | B7: Nombre de la Cuenta | C7: Saldo Final | D7: Saldo Inicial
A8: 1111 | B8: Efectivo | C8: 0 | D8: 0
A9: 1112 | B9: Bancos/Tesorería | C9: 72299939 | D9: 49091934
A10: 1113 | B10: Bancos/Dependencias y Otros | C10: 0 | D10: 0
A11: 1114 | B11: Inversiones Temporales (Hasta 3 meses) | C11: 0 | D11: 0
A12: 1115 | B12: Fondos con Afectación Específica | C12: 0 | D12: 0
A13: 1116 | B13: Depósitos de Fondos de Terceros en Garantía y/o Administración | C13: 0 | D13: 0
A14: 1119 | B14: Otros Efectivos y Equivalentes | C14: 0 | D14: 0
A15: 1110 | B15: Total | C15: =SUM(C8:C14) -> 72299939 | D15: =SUM(D8:D14) -> 49091934
A18: EFE-02 ADQ. BIENES MUEBLES E INMUEBLES
A19: Cuenta | B19: Nombre de la Cuenta | C19: Monto | D19: Subsidio | E19: Pagos
A20: 1230 | B20: Bienes Inmuebles, Infraestructura y Construcciones en Proceso | C20: =SUM(C21:C27) -> 99789258
A21: 1231 | B21: Terrenos | C21: 14916640
A22: 1232 | B22: Viviendas | C22: 0
A23: 1233 | B23: Edificios no Habitacionales | C23: 59917231
A24: 1234 | B24: Infraestructura | C24: 0
A25: 1235 | B25: Construcciones en Proceso en Bienes de Dominio Público | C25: 0
A26: 1236 | B26: Construcciones en Proceso en Bienes Propios | C26: 24955387
A27: 1239 | B27: Otros Bienes Inmuebles | C27: 0
A28: 1240 | B28: Bienes Muebles | C28: =SUM(C29:C36) -> 78403727
A29: 1241 | B29: Mobiliario y Equipo de Administración | C29: 35541508
A30: 1242 | B30: Mobiliario y Equipo Educacional y Recreativo | C30: 2461570
A31: 1243 | B31: Equipo e Instrumental Médico y de Laboratorio | C31: 1272844.9
A32: 1244 | B32: Vehículos y Equipo de Transporte | C32: 10376404
A33: 1245 | B33: Equipo de Defensa y Seguridad | C33: 0
A34: 1246 | B34: Maquinaria, Otros Equipos y Herramientas | C34: 28166411
A35: 1247 | B35: Colecciones, Obras de Arte y Objetos Valiosos | C35: 584989.89
A36: 1248 | B36: Activos Biológicos | C36: 0
A37: 1250 | B37: Activos Intangibles | C37: =SUM(C38:C42) -> 0
A38: 1251 | B38: Software | C38: 0
A39: 1252 | B39: Patentes, Marcas y Derechos | C39: 0
A40: 1253 | B40: Concesiones y Franquicias | C40: 0
A41: 1254 | B41: Licencias | C41: 0
A42: 1259 | B42: Otros Activos Intangibles | C42: 0
A44: EFE-03 CONCILIACION DEL FLUJO DE EFECTIVO
...

Sheet Conciliacion_Ig
A1: UNIVERSIDAD TECNOLÓGICA DEL NORTE DE GUANAJUATO
A2: CONCILIACIÓN ENTRE LOS INGRESOS PRESUPUESTARIOS Y CONTABLES
A3: Correspondiente del 01 Enero al 30 de Junio 2025
A4: (CIFRAS EN PESOS)
A5: 1. Total de Ingresos Presupuestarios | C5: 0
A7: 2. Más Ingresos Contables No Presupuestarios | C7: =SUM(C8:C13) -> 0
A8: 2.1 | B8: Ingresos Financieros | C8: 0
A9: 2.2 | B9: Incremento por Variación de inventarios | C9: 0
A10: 2.3 | B10: Disminución del Exceso de Estimaciones por Pérdida o Deterioro u Obsolescencia | C10: 0
A11: 2.4 | B11: Disminución del Exceso de Provisiones | C11: 0
A12: 2.5 | B12: Otros Ingresos y Beneficios Varios | C12: 0
A13: 2.6 | B13: Otros Ingresos Contables No Presupuestarios | C13: 0
A15: 3. Menos ingresos presupuestarios no contables | C15: =SUM(C16:C18) -> 0
A16: 3.1 | B16: Aprovechamientos Patrimoniales | C16: 0
A17: 3.2 | B17: Ingresos Derivados de Financiamientos | C17: 0
A18: 3.3 | B18: Otros Ingresos Presupuestarios No Contables | C18: 0
A20: 4. Ingresos Contables (4 = 1 + 2 - 3) | C20: =C5+C7-C15 -> 0

Sheet Conciliacion_Eg
A1: UNIVERSIDAD TECNOLÓGICA DEL NORTE DE GUANAJUATO
A2: CONCILIACIÓN ENTRE LOS EGRESOS PRESUPUESTARIOS Y LOS GASTOS CONTABLES
A3: Correspondiente del 01 de Enero al 30 de Junio 2025
A4: (CIFRAS EN PESOS)
A5: 1. Total de Egresos Presupuestarios | C5: 0
A7: 2. Menos Egresos Presupuestarios No Contables | C7: =SUM(C8:C28) -> 0
A8: 2.1 | B8: Materias Primas y Materiales de Producción y Comercialización | C8: 0
A9: 2.2 | B9: Materiales y Suministros | C9: 0
A10: 2.3 | B10: Mobiliario y Equipo de Administración | C10: 0
A11: 2.4 | B11: Mobiliario y Equipo Educacional y Recreativo | C11: 0
A12: 2.5 | B12: Equipo e Instrumental Médico y de Laboratorio | C12: 0
A13: 2.6 | B13: Vehículos y Equipo de Transporte | C13: 0
A14: 2.7 | B14: Equipo de Defensa y Seguridad | C14: 0
A15: 2.8 | B15: Maquinaria, Otros Equipos y Herramientas | C15: 0
A16: 2.9 | B16: Activos Biológicos | C16: 0
A17: 2.10 | B17: Bienes Inmuebles | C17: 0
A18: 2.11 | B18: Activos Intangibles | C18: 0
A19: 2.12 | B19: Obra Pública en Bienes de Dominio Público | C19: 0
A20: 2.13 | B20: Obra Pública en Bienes Propios | C20: 0
A21: 2.14 | B21: Acciones y Participaciones de Capital | C21: 0
A22: 2.15 | B22: Compra de Títulos y Valores | C22: 0
A23: 2.16 | B23: Concesión de Préstamos | C23: 0
A24: 2.17 | B24: Inversiones en Fideicomisos, Mandatos y Otros Análogos | C24: 0
A25: 2.18 | B25: Provisiones para Contingencias y Otras Erogaciones Especiales | C25: 0
A26: 2.19 | B26: Amortización de la Deuda Pública | C26: 0
A27: 2.20 | B27: Adeudos de Ejercicios Fiscales Anteriores (ADEFAS) | C27: 0
A28: 2.21 | B28: Otros Egresos Presupuestarios No Contables | C28: 0
A30: 3. Más Gastos Contables No Presupuestarios | C30: =SUM(C31:C37) -> 0
A31: 3.1 | B31: Estimaciones, Depreciaciones, Deterioros, Obsolescencia y Amortizaciones | C31: 0
A32: 3.2 | B32: Provisiones | C32: 0
A33: 3.3 | B33: Disminución de Inventarios | C33: 0
A34: 3.4 | B34: Aumento por insuficiencia de Estimaciones por Pérdida o Deterioro u Obsolescencia | C34: 0
A35: 3.5 | B35: Aumento por insuficiencia de Provisiones | C35: 0
A36: 3.6 | B36: Otros Gastos | C36: 0
A37: 3.7 | B37: Otros Gastos Contables No Presupuestarios | C37: 0
A39: 4. Total de Gasto Contable (4 = 1 - 2 + 3) | C39: =C5-C7+C30 -> 0

Sheet Memoria
A1: ='Notas a los Edos Financieros'!A1 -> UNIVERSIDAD TECNOLOGICA DEL NORTE DE GUANAJUATO | G1: EJERCICIO: | H1: ='Notas a los Edos Financieros'!E1 -> 2025
A2: NOTAS DE MEMORIA | G2: PERIODICIDAD: | H2: ='Notas a los Edos Financieros'!E2 -> TRIMESTRAL
A3: ='Notas a los Edos Financieros'!A3 -> Correspondiente del 1 de Enero al 30 de Junio de 2025 | G3: CORTE: | H3: ='Notas a los Edos Financieros'!E3 -> 2
A4: Notas
A7: Cuenta | B7: Concepto | C7: Saldo Inicial | D7: Cargos del Período | E7: Abonos del Período | F7: Saldo Final | G7: Valores en Custodia | H7: Tasa | I7: Vencimiento | J7: Tipo de Contrato
A8: 7000 | B8: CUENTAS DE ORDEN CONTABLES
A9: 7110 | B9: Valores en Custodia | C9: 0 | D9: 0 | E9: 0 | F9: =C9+D9+E9 -> 0
A10: 7120 | B10: Custodia de Valores | C10: 0 | D10: 0 | E10: 0 | F10: =C10+D10+E10 -> 0
A11: 7130 | B11: Instrumentos de Crédito Prestados a Formadores de Mercado | C11: 0 | D11: 0 | E11: 0 | F11: =C11+D11+E11 -> 0
A12: 7140 | B12: Préstamo de Instrumentos de Crédito a Formadores de Mercado y su Garantía | C12: 0 | D12: 0 | E12: 0 | F12: =C12+D12+E12 -> 0
A13: 7150 | B13: Instrumentos de Crédito Recibidos en Garantía de los Formadores de Mercado | C13: 0 | D13: 0 | E13: 0 | F13: =C13+D13+E13 -> 0
A14: 7160 | B14: Garantía de Créditos Recibidos de los Formadores de Mercado | C14: 0 | D14: 0 | E14: 0 | F14: =C14+D14+E14 -> 0
A15: 7210 | B15: Autorización para la Emisión de Bonos, Títulos y Valores de la Deuda Pública Interna | C15: 0 | D15: 0 | E15: 0 | F15: =C15+D15+E15 -> 0
A16: 7220 | B16: Autorización para la Emisión de Bonos, Títulos y Valores de la Deuda Pública Externa | C16: 0 | D16: 0 | E16: 0 | F16: =C16+D16+E16 -> 0
A17: 7230 | B17: Emisiones Autorizadas de la Deuda Pública Interna y Externa | C17: 0 | D17: 0 | E17: 0 | F17: =C17+D17+E17 -> 0
A18: 7240 | B18: Suscripción de Contratos de Préstamos y Otras Obligaciones de la Deuda Pública Interna | C18: 0 | D18: 0 | E18: 0 | F18: =C18+D18+E18 -> 0
A19: 7250 | B19: Suscripción de Contratos de Préstamos y Otras Obligaciones de la Deuda Pública Externa | C19: 0 | D19: 0 | E19: 0 | F19: =C19+D19+E19 -> 0
A20: 7260 | B20: Contratos de Préstamos y Otras Obligaciones de la Deuda Pública Interna y Externa | C20: 0 | D20: 0 | E20: 0 | F20: =C20+D20+E20 -> 0
... A38: 7932 | B38: Disposición de Crédito Simple 2020 | C38: 0 | D38: 0 | E38: 0 | F38: =C38+D38+E38 -> 0
A39: 8000 | B39: CUENTAS DE ORDEN PRESUPUESTARIAS
A40: 8110 | B40: Ley de Ingresos Estimada | C40: 0 | D40: 0 | E40: 0 | F40: =C40+D40+E40 -> 0
A41: 8120 | B41: Ley de Ingresos por Ejecutar | C41: 0 | D41: 0 | E41: 0 | F41: =C41+D41+E41 -> 0
A42: 8130 | B42: Modificaciones a la Ley de Ingresos Estimada | C42: 0 | D42: 0 | E42: 0 | F42: =C42+D42+E42 -> 0
A43: 8140 | B43: Ley de Ingresos Devengada | C43: 0 | D43: 0 | E43: 0 | F43: =C43+D43+E43 -> 0
A44: 8150 | B44: Ley de Ingresos Recaudada | C44: 0 | D44: 0 | E44: 0 | F44: =C44+D44+E44 -> 0
A45: 8210 | B45: Presupuesto de Egresos Aprobado | C45: 0 | D45: 0 | E45: 0 | F45: =C45+D45+E45 -> 0
A46: 8220 | B46: Presupuesto de Egresos por Ejercer | C46: 0 | D46: 0 | E46: 0 | F46: =C46+D46+E46 -> 0
A47: 8230 | B47: Modificaciones al Presupuesto de Egresos Aprobado | C47: 0 | D47: 0 | E47: 0 | F47: =C47+D47+E47 -> 0
A48: 8240 | B48: Presupuesto de Egresos Comprometido | C48: 0 | D48: 0 | E48: 0 | F48: =C48+D48+E48 -> 0
A49: 8250 | B49: Presupuesto de Egresos Devengado | C49: 0 | D49: 0 | E49: 0 | F49: =C49+D49+E49 -> 0
A50: 8260 | B50: Presupuesto de Egresos Ejercido | C50: 0 | D50: 0 | E50: 0 | F50: =C50+D50+E50 -> 0
A51: 8270 | B51: Presupuesto de Egresos Pagado | C51: 0 | D51: 0 | E51: 0 | F51: =C51+D51+E51 -> 0
