Workbook
Name A: [1]ECABR!#REF!
Name A_impresión_IM: [1]ECABR!#REF!
Name abc: [2]TOTAL!#REF!
Name B: [3]EGRESOS!#REF!
Name BASE: #REF!
Name cba: [2]TOTAL!#REF!
Name ELOY: #REF!
Name ENTE_PUBLICO: '[5]Info General'!$C$6
Name Fecha: #REF!
Name HF: [6]T1705HF!$B$20:$B$20
Name ju: [4]REPORTO!#REF!
Name mao: [1]ECABR!#REF!
Name N: #REF!
Name REPORTO: #REF!
Name TCAIE: [7]CH1902!$B$20:$B$20
Name TCFEEIS: #REF!
Name TRASP: #REF!
Name U: #REF!
Name x: #REF!

Sheet EAI
A1: Universidad Tecnológica del Norte de Guanajuato Estado Analítico de Ingresos Del 01 Enero al 31 de Marzo de 2026
B2: Ingresos | G2: Diferencia
A3: Rubro de Ingresos | B3: Estimado | C3: Ampliaciones y Reducciones | D3: Modificado | E3: Devengado | F3: Recaudado
B4: (1) | C4: (2) | D4: (3 = 1 + 2) | E4: (4) | F4: (5) | G4: (6 = 5 - 1)
A5: Impuestos | B5: 0 | C5: 0 | D5: 0 | E5: 0 | F5: 0 | G5: 0
A6: Cuotas y Aportaciones de Seguridad Social | B6: 0 | C6: 0 | D6: 0 | E6: 0 | F6: 0 | G6: 0
A7: Contribuciones de Mejoras | B7: 0 | C7: 0 | D7: 0 | E7: 0 | F7: 0 | G7: 0
A8: Derechos | B8: 0 | C8: 0 | D8: 0 | E8: 0 | F8: 0 | G8: 0
A9: Productos | B9: 0 | C9: 0 | D9: 0 | E9: 0 | F9: 0 | G9: 0
A10: Aprovechamientos | B10: 0 | C10: 0 | D10: 0 | E10: 0 | F10: 0 | G10: 0
A11: Ingresos por Venta de Bienes, Prestación de Servicios y Otros Ingresos | B11: 16296093 | C11: 8994791.7 | D11: =B11+C11 -> 25290885 | E11: 2564217.7 | F11: 2564217.7 | G11: =F11-B11 -> -13731875
A12: Participaciones, Aportaciones, Convenios, Incentivos de Derivados de la Colaboración Fiscal y Fondos Distintos de Aportaciones | B12: 51018101 | C12: 0 | D12: =B12+C12 -> 51018101 | E12: 20007240 | F12: 20007240 | G12: =F12-B12 -> -31010861
A13: Transferencias, Asignaciones, Subsidios y Subvenciones, y Pensiones y Jubilaciones | B13: 53563662 | C13: 200000 | D13: =B13+C13 -> 53763662 | E13: 22525926 | F13: 22317032 | G13: =F13-B13 -> -31246630
A14: Ingresos Derivados de Financiamientos | B14: 0 | C14: 0 | D14: 0 | E14: 0 | F14: 0 | G14: 0
A16: Total | B16: =SUM(B5:B15) -> 1.2087786e+08 | C16: =SUM(C5:C15) -> 9194791.7 | D16: =SUM(D5:D15) -> 1.3007265e+08 | E16: =SUM(E5:E15) -> 45097384 | F16: =SUM(F5:F15) -> 44888489 | G16: =SUM(G5:G15) -> -75989367
E17: Ingresos Excedentes
B18: Ingresos | G18: Diferencia
A19: Estado Analítico de Ingresos Por Fuente de Financiamiento | B19: Estimado | C19: Ampliaciones y Reducciones | D19: Modificado | E19: Devengado | F19: Recaudado
B20: (1) | C20: (2) | D20: (3 = 1 + 2) | E20: (4) | F20: (5) | G20: (6 = 5 - 1)
A21: Ingresos del Poder Ejecutivo Federal o Estatal y de los Municipios | B21: =SUM(B22:B29) -> 0 | C21: =SUM(C22:C29) -> 0 | D21: =SUM(D22:D29) -> 0 | E21: =SUM(E22:E29) -> 0 | F21: =SUM(F22:F29) -> 0 | G21: =SUM(G22:G29) -> 0
A22: Impuestos | B22: 0 | C22: 0 | D22: 0 | E22: 0 | F22: 0 | G22: 0
A23: Cuotas y Aportaciones de Seguridad Social | B23: 0 | C23: 0 | D23: 0 | E23: 0 | F23: 0 | G23: 0
A24: Contribuciones de Mejoras | B24: 0 | C24: 0 | D24: 0 | E24: 0 | F24: 0 | G24: 0
A25: Derechos | B25: 0 | C25: 0 | D25: 0 | E25: 0 | F25: 0 | G25: 0
A26: Productos1 | B26: 0 | C26: 0 | D26: 0 | E26: 0 | F26: 0 | G26: 0
A27: Aprovechamientos2 | B27: 0 | C27: 0 | D27: 0 | E27: 0 | F27: 0 | G27: 0
A28: Participaciones, Aportaciones, Convenios, Incentivos Derivados de la Colaboración Fiscal y Fondos Distintos de Aportaciones | B28: 0 | C28: 0 | D28: 0 | E28: 0 | F28: 0 | G28: 0
A29: Transferencias, Asignaciones, Subsidios y Subvenciones, y Pensiones y Jubilaciones | B29: 0 | C29: 0 | D29: 0 | E29: 0 | F29: 0 | G29: 0
A31: Ingresos de los Entes Públicos de los Poderes Legislativo y Judicial, de los Órganos Autónomos y del Sector Paraestatal o Paramunicipal, así como de las Empresas Productivas del Estado | B31: =SUM(B32:B35) -> 69859755 | C31: =SUM(C32:C35) -> 9194791.7 | D31: =SUM(D32:D35) -> 79054547 | E31: =SUM(E32:E35) -> 25090144 | F31: =SUM(F32:F35) -> 24881249 | G31: =SUM(G32:G35) -> -44978506
A32: Cuotas y Aportaciones de Seguridad Social | B32: 0 | C32: 0 | D32: 0 | E32: 0 | F32: 0 | G32: 0
A33: Productos1 | B33: 0 | C33: 0 | D33: 0 | E33: 0 | F33: 0 | G33: 0
A34: Ingresos por Venta de Bienes, Prestación de Servicios y Otros Ingresos3 | B34: 16296093 | C34: 8994791.7 | D34: =B34+C34 -> 25290885 | E34: 2564217.7 | F34: 2564217.7 | G34: =F34-B34 -> -13731875
A35: Transferencias, Asignaciones, Subsidios y Subvenciones, y Pensiones y Jubilaciones | B35: 53563662 | C35: 200000 | D35: =B35+C35 -> 53763662 | E35: 22525926 | F35: 22317032 | G35: =F35-B35 -> -31246630
A37: Ingresos Derivados de Financiamiento | B37: 0 | C37: 0 | D37: 0 | E37: 0 | F37: 0 | G37: 0
A38: Ingresos Derivados de Financiamientos | B38: 0 | C38: 0 | D38: 0 | E38: 0 | F38: 0 | G38: 0
A40: Total | B40: =B21+B31 -> 69859755 | C40: =C21+C31 -> 9194791.7 | D40: =D21+D31 -> 79054547 | E40: =E21+E31 -> 25090144 | F40: =F21+F31 -> 24881249 | G40: =G21+G31 -> -44978506
E41: Ingresos Excedentes | G41: 0
A43: Bajo protesta de decir verdad declaramos que los Estados Financieros y sus notas, son razonablemente correctos y son responsabilidad del emisor.
A45: 1 Incluye intereses que generan las cuentas bancarias de los entes públicos en productos.
A46: 2 Incluye donativos en efectivo del Poder Ejecutivo, entre otros aprovechamientos.
...

Sheet EAI COMPLEMENTARIO
B1: Universidad Tecnológica del Norte de Guanajuato Estado Analítico Complementario de Ingresos Del 01 de Enero al 31 de Marzo de 2026
B2: Estado Analítico de Cuadre de Ingresos por Fuente de Financiamiento | D2: Ingresos | I2: Diferencia
D3: Estimado | E3: Ampliaciones y Reducciones | F3: Modificado | G3: Devengado | H3: Recaudado
D4: (1) | E4: (2) | F4: (3 = 1 + 2) | G4: (4) | H4: (5) | I4: (6 = 5 - 1)
B5: Ingresos de los Entes públicos de los Poderes Legislativo y Judicial, de los Organos Autónomos y del Sector Para estatal o Paramunicipal, asi como de las Empresas Productivas del Estado.
B12: Participaciones, Aportaciones, Convenios, Incentivos derivados de la colaboración Fiscal y Fondos Distintos de Aportaciones. | D12: 51018101 | E12: 0 | F12: =D12+E12 -> 51018101 | G12: 20007240 | H12: 20007240 | I12: =H12-D12 -> -31010861
C21: Total | D21: =D9+D12+D17+D18+D19+D16 -> 51018101 | E21: =E9+E12+E17+E18+E19+E16 -> 0 | F21: =F9+F12+F17+F18+F19+F16 -> 51018101 | G21: =G9+G12+G17+G18+G19+G16 -> 20007240 | H21: =H9+H12+H17+H18+H19+H16 -> 20007240 | I21: =I9+I12+I17+I18+I19+I16 -> -31010861
G22: Ingresos Excedentes | I22: =I21 -> -31010861
B23: Bajo protesta de decir verdad declaramos que los Estados Financieros y sus Notas son razonablemente correctos y responsabilidad del emisor
C30: M. en C. Andrés Salvador Casillas Barajas | G30: MAE. Loth Mariano Pérez Camacho
C31: Rector de la Universidad Tecnológica del Norte de Guanajuato | G31: Encargado de la Secretaría de Administración y Finanzas de la Universidad Tecnológica del Norte de Guanajuato

Sheet COG
A1: UNIVERSIDAD TECNOLOGICA DEL NORTE DE GUANAJUATO Estado Analítico del Ejercicio del Presupuesto de Egresos Clasificación por Objeto del Gasto (Capítulo y Concepto) Del 1 de Enero al 31 de Marzo de 2026
A2: Concepto | C2: Egresos | H2: Subejercicio
C3: Aprobado | D3: Ampliaciones/ (Reducciones) | E3: Modificado | F3: Devengado | G3: Pagado
C4: 1 | D4: 2 | E4: 3 = (1 + 2 ) | F4: 4 | G4: 5 | H4: 6 = ( 3 - 4 )
A5: Servicios Personales | C5: 94557871 | D5: 0 | E5: 94557871 | F5: 20939349 | G5: 20939349 | H5: 73618523
A6: 1100 | B6: Remuneraciones al Personal de Carácter Permanente | C6: 27520389 | D6: 17460170 | E6: 44980560 | F6: 9585478.4 | G6: 9585478.4 | H6: 35395081
A7: 1200 | B7: Remuneraciones al Personal de Carácter Transitorio | C7: 8563404.8 | D7: 0 | E7: 8563404.8 | F7: 2230102.2 | G7: 2230102.2 | H7: 6333302.6
A8: 1300 | B8: Remuneraciones Adicionales y Especiales | C8: 10402377 | D8: 0 | E8: 10402377 | F8: 148147.82 | G8: 148147.82 | H8: 10254229
A9: 1400 | B9: Seguridad Social | C9: 17775848 | D9: 0 | E9: 17775848 | F9: 4848055.2 | G9: 4848055.2 | H9: 12927793
A10: 1500 | B10: Otras Prestaciones Sociales y Económicas | C10: 29455852 | D10: -17460170 | E10: 11995682 | F10: 3350561.6 | G10: 3350561.6 | H10: 8645120
A11: 1600 | B11: Previsiones | C11: 0 | D11: 0 | E11: 0 | F11: 0 | G11: 0 | H11: 0
A12: 1700 | B12: Pago de Estímulos a Servidores Públicos | C12: 840000 | D12: 0 | E12: 840000 | F12: 777003.7 | G12: 777003.7 | H12: 62996.3
A13: Materiales Y Suministros | C13: 2167925.7 | D13: 524816 | E13: 2692741.7 | F13: 191531.44 | G13: 160034.64 | H13: 2501210.3
A14: 2100 | B14: Materiales de Administración, Emisión de Documentos y Artículos Oficiales | C14: 754091.8 | D14: 63202 | E14: 817293.8 | F14: 74963.7 | G14: 43466.9 | H14: 742330.1
A15: 2200 | B15: Alimentos y Utensilios | C15: 129672.7 | D15: 49453 | E15: 179125.7 | F15: 4644.95 | G15: 4644.95 | H15: 174480.75
A16: 2300 | B16: Materias Primas y Materiales de Producción y Comercialización | C16: 0 | D16: 0 | E16: 0 | F16: 0 | G16: 0 | H16: 0
A17: 2400 | B17: Materiales y Artículos de Construcción y de Reparación | C17: 406534.1 | D17: 318728 | E17: 725262.1 | F17: 50 | G17: 50 | H17: 725212.1
A18: 2500 | B18: Productos Químicos, Farmacéuticos y de Laboratorio | C18: 133209.34 | D18: 6000 | E18: 139209.34 | F18: 0 | G18: 0 | H18: 139209.34
A19: 2600 | B19: Combustibles, Lubricantes y Aditivos | C19: 492772.54 | D19: 0 | E19: 492772.54 | F19: 111473.78 | G19: 111473.78 | H19: 381298.76
A20: 2700 | B20: Vestuario, Blancos, Prendas de Protección y Artículos Deportivos | C20: 70042.5 | D20: 21117 | E20: 91159.5 | F20: 0 | G20: 0 | H20: 91159.5
A21: 2800 | B21: Materiales y Suministros Para Seguridad | C21: 0 | D21: 0 | E21: 0 | F21: 0 | G21: 0 | H21: 0
A22: 2900 | B22: Herramientas, Refacciones y Accesorios Menores | C22: 181602.72 | D22: 66316 | E22: 247918.72 | F22: 399.01 | G22: 399.01 | H22: 247519.71
A23: Servicios Generales | C23: 21993846 | D23: 3941738.3 | E23: 25935584 | F23: 1865318.7 | G23: 1844544.6 | H23: 24070266
A24: 3100 | B24: Servicios Básicos | C24: 2879651.4 | D24: 0 | E24: 2879651.4 | F24: 393187.3 | G24: 393187.3 | H24: 2486464.1
A25: 3200 | B25: Servicios de Arrendamiento | C25: 868141.7 | D25: 47601 | E25: 915742.7 | F25: 59202 | G25: 59202 | H25: 856540.7
A26: 3300 | B26: Servicios Profesionales, Científicos, Técnicos y Otros Servicios | C26: 7206510.2 | D26: 394740.97 | E26: 7601251.1 | F26: 111013.48 | G26: 111013.48 | H26: 7490237.6
A27: 3400 | B27: Servicios Financieros, Bancarios y Comerciales | C27: 358471 | D27: 0 | E27: 358471 | F27: 0 | G27: 0 | H27: 358471
A28: 3500 | B28: Servicios de Instalación, Reparación, Mantenimiento y Conservación | C28: 6798587.5 | D28: 2507000 | E28: 9305587.5 | F28: 42296.44 | G28: 21522.4 | H28: 9263291.1
A29: 3600 | B29: Servicios de Comunicación Social y Publicidad. | C29: 399500 | D29: 25000 | E29: 424500 | F29: 0 | G29: 0 | H29: 424500
A30: 3700 | B30: Servicios de Traslado y Viáticos | C30: 211888.62 | D30: 81000 | E30: 292888.62 | F30: 145 | G30: 145 | H30: 292743.62
A31: 3800 | B31: Servicios Oficiales | C31: 506220.65 | D31: 72000 | E31: 578220.65 | F31: 19760.05 | G31: 19760.05 | H31: 558460.6
A32: 3900 | B32: Otros Servicios Generales | C32: 2764875.1 | D32: 814396.3 | E32: 3579271.4 | F32: 1239714.4 | G32: 1239714.4 | H32: 2339557
A33: Transferencias, Asignaciones, Subsidios Y Otras Ayudas | C33: 1916779 | D33: 615900 | E33: 2532679 | F33: 254353.25 | G33: 254353.25 | H33: 2278325.8
A34: 4100 | B34: Transferencias Internas y Asignaciones al Sector Público | C34: 0 | D34: 0 | E34: 0 | F34: 0 | G34: 0 | H34: 0
A35: 4200 | B35: Transferencias al Resto del Sector Público | C35: 0 | D35: 0 | E35: 0 | F35: 0 | G35: 0 | H35: 0
A36: 4300 | B36: Subsidios y Subvenciones | C36: 0 | D36: 0 | E36: 0 | F36: 0 | G36: 0 | H36: 0
A37: 4400 | B37: Ayudas Sociales | C37: 1916779 | D37: 615900 | E37: 2532679 | F37: 254353.25 | G37: 254353.25 | H37: 2278325.8
A38: 4500 | B38: Pensiones y Jubilaciones | C38: 0 | D38: 0 | E38: 0 | F38: 0 | G38: 0 | H38: 0
A39: 4600 | B39: Transferencias a Fideicomisos, Mandatos y Otros Análogos | C39: 0 | D39: 0 | E39: 0 | F39: 0 | G39: 0 | H39: 0
A40: 4700 | B40: Transferencias a la Seguridad Social | C40: 0 | D40: 0 | E40: 0 | F40: 0 | G40: 0 | H40: 0
...

Sheet CTG
A1: Universidad Tecnológica del Norte de Guanajuato Estado Analítico del Ejercicio del Presupuesto de Egresos Clasificación Económica (por Tipo de Gasto) Del 01 de Enero al 31 de Marzo de 2026
B2: Egresos | G2: Subejercicio
A3: Concepto | B3: Aprobado | C3: Ampliaciones/ (Reducciones) | D3: Modificado | E3: Devengado | F3: Pagado
B4: 1 | C4: 2 | D4: 3 = (1 + 2 ) | E4: 4 | F4: 5 | G4: 6 = ( 3 - 4 )
A6: Gasto Corriente | B6: 1.2063642e+08 | C6: 5082454.3 | D6: =B6+C6 -> 1.2571888e+08 | E6: 23250552 | F6: 23198281 | G6: =D6-E6 -> 1.0246832e+08
A7: Gasto de Capital | B7: 241434 | C7: 4112337.4 | D7: =B7+C7 -> 4353771.4 | E7: 447630 | F7: 223815 | G7: =D7-E7 -> 3906141.4
A8: Amortización de la Deuda y Disminución de Pasivos | B8: 0 | C8: 0 | D8: =B8+C8 -> 0 | E8: 0 | F8: 0 | G8: =D8-E8 -> 0
A9: Pensiones y Jubilaciones | B9: 0 | C9: 0 | D9: =B9+C9 -> 0 | E9: 0 | F9: 0 | G9: =D9-E9 -> 0
A10: Participaciones | B10: 0 | C10: 0 | D10: =B10+C10 -> 0 | E10: 0 | F10: 0 | G10: =D10-E10 -> 0
A12: Total del Gasto | B12: =SUM(B6:B10) -> 1.2087786e+08 | C12: =SUM(C6:C10) -> 9194791.7 | D12: =SUM(D6:D10) -> 1.3007265e+08 | E12: =SUM(E6:E10) -> 23698182 | F12: =SUM(F6:F10) -> 23422096 | G12: =SUM(G6:G10) -> 1.0637447e+08
A14: Bajo protesta de decir verdad declaramos que los Estados Financieros y sus notas, son razonablemente correctos y son responsabilidad del emisor.
L20: |
A24: M. en C. Andrés Salvador Casillas Barajas | E24: MAE. Loth Mariano Pérez Camacho
A25: Rector de la Universidad Tecnológica del Norte de Guanajuato | E25: Encargado de la Secretaría de Administración y Finanzas de la Universidad Tecnológica del Norte de Guanajuato

Sheet CA
A1: Universidad Tecnológica del Norte de Guanajuato Estado Analítico del Ejercicio del Presupuesto de Egresos Clasificación Administrativa Del 01 de Enero al 31 de Marzo de 2026
A3: Concepto | C3: Egresos | H3: Subejercicio
C4: Aprobado | D4: Ampliaciones/ (Reducciones) | E4: Modificado | F4: Devengado | G4: Pagado
C5: 1 | D5: 2 | E5: 3 = (1 + 2 ) | F5: 4 | G5: 5 | H5: 6 = ( 3 - 4 )
A7: 21121300701000 | C7: 10501269 | D7: 493978.67 | E7: =C7+D7 -> 10995248 | F7: 1996216.5 | G7: 1978659.1 | H7: =E7-F7 -> 8999031.7
A8: 21121300701020 21121300701000 | C8: 7350280.1 | D8: 393308.76 | E8: =C8+D8 -> 7743588.9 | F8: 1389193.6 | G8: 1384964.1 | H8: =E8-F8 -> 6354395.3
A9: 21121300702000 21121300701020 2112130070 | C9: 37462492 | D9: 8115513.7 | E9: =C9+D9 -> 45578006 | F9: 6283128.2 | G9: 6033654.7 | H9: =E9-F9 -> 39294878
A10: 21121300703000 21121300702000 2112130070 | C10: 64123969 | D10: 191990.56 | E10: =C10+D10 -> 64315959 | F10: 13713546 | G10: 13708721 | H10: =E10-F10 -> 50602413
A11: 211213007A1000 21121300703000 2112130070 | C11: 1439845.4 | D11: -0.01 | E11: =C11+D11 -> 1439845.4 | F11: 316097.68 | G11: 316097.68 | H11: =E11-F11 -> 1123747.8
A12: Dependencia o Unidad Administrativa 7 | C12: 0 | D12: 0 | E12: =C12+D12 -> 0 | F12: 0 | G12: 0 | H12: =E12-F12 -> 0
A13: Dependencia o Unidad Administrativa 8 | C13: 0 | D13: 0 | E13: =C13+D13 -> 0 | F13: 0 | G13: 0 | H13: =E13-F13 -> 0
A14: Dependencia o Unidad Administrativa xx | C14: 0 | D14: 0 | E14: =C14+D14 -> 0 | F14: 0 | G14: 0 | H14: =E14-F14 -> 0
B16: Total del Gasto | C16: =SUM(C7:C15) -> 1.2087786e+08 | D16: =SUM(D7:D15) -> 9194791.7 | E16: =C16+D16 -> 1.3007265e+08 | F16: =SUM(F7:F14) -> 23698182 | G16: =SUM(G7:G14) -> 23422096 | H16: =E16-F16 -> 1.0637447e+08
A19: Gobierno (Federal/Estatal/Municipal) de _Universidad Tecnológica del Norte de Guanajuato Estado Analítico del Ejercicio del Presupuesto de Egresos Clasificación Administrativa Del 01 de Enero al 31 de Marzo de 2026
A21: Concepto | C21: Egresos | H21: Subejercicio
C22: Aprobado | D22: Ampliaciones/ (Reducciones) | E22: Modificado | F22: Devengado | G22: Pagado
C23: 1 | D23: 2 | E23: 3 = (1 + 2 ) | F23: 4 | G23: 5 | H23: 6 = ( 3 - 4 )
A25: Poder Ejecutivo
A26: Poder Legislativo | D26: No aplica
A27: Poder Judicial
A28: Órganos Autónomos
B30: Total del Gasto
A33: Universidad Tecnológica del Norte de Guanajuato Estado Analítico del Ejercicio del Presupuesto de Egresos Clasificación Administrativa Del 01 de Enero al 31 de Marzo de 2026
A34: Concepto | C34: Egresos | H34: Subejercicio
C35: Aprobado | D35: Ampliaciones/ (Reducciones) | E35: Modificado | F35: Devengado | G35: Pagado
C36: 1 | D36: 2 | E36: 3 = (1 + 2 ) | F36: 4 | G36: 5 | H36: 6 = ( 3 - 4 )
B38: Entidades Paraestatales y Fideicomisos No Empresariales y No Financieros | C38: 1.2087786e+08 | D38: 9194791.7 | E38: =C38+D38 -> 1.3007265e+08 | F38: 23698182 | G38: 23422096 | H38: =E38-F38 -> 1.0637447e+08
B40: Instituciones Públicas de la Seguridad Social | C40: 0 | D40: 0 | E40: =C40+D40 -> 0 | F40: 0 | G40: 0 | H40: =E40-F40 -> 0
B42: Entidades Paraestatales Empresariales No Financieras con Participación Estatal Mayoritaria | C42: 0 | D42: 0 | E42: =C42+D42 -> 0 | F42: 0 | G42: 0 | H42: =E42-F42 -> 0
B44: Fideicomisos Empresariales No Financieros con Participación Estatal Mayoritaria | C44: 0 | D44: 0 | E44: =C44+D44 -> 0 | F44: 0 | G44: 0 | H44: =E44-F44 -> 0
B46: Entidades Paraestatales Empresariales Financieras Monetarias con Participación Estatal Mayoritaria | C46: 0 | D46: 0 | E46: =C46+D46 -> 0 | F46: 0 | G46: 0 | H46: =E46-F46 -> 0
B48: Entidades Paraestatales Finanacieras No Monetarias con Participacion Estatal Mayoritaria | C48: 0 | D48: 0 | E48: =C48+D48 -> 0 | F48: 0 | G48: 0 | H48: =E48-F48 -> 0
B50: Fideicomisos Financieros Públicos con Participación Estatal Mayoritaria | C50: 0 | D50: 0 | E50: =C50+D50 -> 0 | F50: 0 | G50: 0 | H50: =E50-F50 -> 0
B52: Total del Gasto | C52: =SUM(C38:C50) -> 1.2087786e+08 | D52: =SUM(D38:D50) -> 9194791.7 | E52: =C52+D52 -> 1.3007265e+08 | F52: =SUM(F38:F50) -> 23698182 | G52: =SUM(G38:G50) -> 23422096 | H52: =E52-F52 -> 1.0637447e+08
B54: Bajo protesta de decir verdad declaramos que los Estados Financieros y sus notas, son razonablemente correctos y son responsabilidad del emisor.
B58: M. en C. Andrés Salvador Casillas Barajas | F58: MAE. Loth Mariano Pérez Camacho
B59: Rector de la Universidad Tecnológica del Norte de Guanajuato | F59: Encargado de la Secretaría de Administración y Finanzas de la Universidad Tecnológica del Norte de Guanajuato

Sheet CFG
A1: Universidad Tecnológica del Norte de Guanajuato Estado Analítico del Ejercicio del Presupuesto de Egresos Clasificación Funcional (Finalidad y Función) Del 01 de Enero al 31 de Marzo de 2026
B2: Egresos | G2: Subejercicio
A3: Concepto | B3: Aprobado | C3: Ampliaciones/ (Reducciones) | D3: Modificado | E3: Devengado | F3: Pagado
B4: 1 | C4: 2 | D4: 3 = (1 + 2 ) | E4: 4 | F4: 5 | G4: 6 = ( 3 - 4 )
A6: Gobierno | B6: =SUM(B7:B15) -> 55603814 | C6: =SUM(C7:C15) -> 4229604.2 | D6: =SUM(D7:D15) -> 59833418 | E6: =SUM(E7:E15) -> 10901164 | F6: =SUM(F7:F15) -> 10774164 | G6: =SUM(G7:G15) -> 48932254
A7: Legislación | B7: 0 | C7: 0 | D7: 0 | E7: 0 | F7: 0 | G7: 0
A8: Justicia | B8: 0 | C8: 0 | D8: 0 | E8: 0 | F8: 0 | G8: 0
A9: Coordinación de la Politica de Gobierno | B9: =120877856.26*0.46 -> 55603814 | C9: =CA!D16*46% -> 4229604.2 | D9: =+B9+C9 -> 59833418 | E9: =CA!F16*46% -> 10901164 | F9: =CA!G16*46% -> 10774164 | G9: =D9-E9 -> 48932254
A10: Relaciones Exteriores | B10: 0 | C10: 0 | D10: 0 | E10: 0 | F10: 0 | G10: 0
A11: Asuntos Financieros y Hacendarios | B11: 0 | C11: 0 | D11: 0 | E11: 0 | F11: 0 | G11: 0
A12: Seguridad Nacional | B12: 0 | C12: 0 | D12: 0 | E12: 0 | F12: 0 | G12: 0
A13: Asuntos de Orden Público y de Seguridad Interior | B13: 0 | C13: 0 | D13: 0 | E13: 0 | F13: 0 | G13: 0
A14: Otros Servicios Generales | B14: 0 | C14: 0 | D14: 0 | E14: 0 | F14: 0 | G14: 0
A16: Desarrollo Social | B16: =SUM(B17:B23) -> 65274042 | C16: =SUM(C17:C23) -> 4965187.5 | D16: =SUM(D17:D23) -> 70239230 | E16: =SUM(E17:E23) -> 12797018 | F16: =SUM(F17:F23) -> 12647932 | G16: =SUM(G17:G23) -> 57442211
A17: Protección Ambiental | B17: 0 | C17: 0 | D17: 0 | E17: 0 | F17: 0 | G17: 0
A18: Vivienda y Servicios a la Comunidad | B18: 0 | C18: 0 | D18: 0 | E18: 0 | F18: 0 | G18: 0
A19: Salud | B19: 0 | C19: 0 | D19: 0 | E19: 0 | F19: 0 | G19: 0
A20: Recreación, Cultura y Otras Manifestaciones Sociales | B20: 0 | C20: 0 | D20: 0 | E20: 0 | F20: 0 | G20: 0
A21: Educación | B21: =120877856.26*0.54 -> 65274042 | C21: =CA!D16*54% -> 4965187.5 | D21: =+B21+C21 -> 70239230 | E21: =CA!F16*54% -> 12797018 | F21: =CA!G16*54% -> 12647932 | G21: =D21-E21 -> 57442211
A22: Protección Social | B22: 0 | C22: 0 | D22: 0 | E22: 0 | F22: 0 | G22: 0
A23: Otros Asuntos Sociales | B23: 0 | C23: 0 | D23: 0 | E23: 0 | F23: 0 | G23: 0
A25: Desarrollo Económico | B25: 0 | C25: 0 | D25: 0 | E25: 0 | F25: 0 | G25: 0
A26: Asuntos Económicos, Comerciales y Laborales en General | B26: 0 | C26: 0 | D26: 0 | E26: 0 | F26: 0 | G26: 0
A27: Agropecuaria, Silvicultura, Pesca y Caza | B27: 0 | C27: 0 | D27: 0 | E27: 0 | F27: 0 | G27: 0
A28: Combustibles y Energía | B28: 0 | C28: 0 | D28: 0 | E28: 0 | F28: 0 | G28: 0
A29: Minería, Manufacturas y Construcción | B29: 0 | C29: 0 | D29: 0 | E29: 0 | F29: 0 | G29: 0
A30: Transporte | B30: 0 | C30: 0 | D30: 0 | E30: 0 | F30: 0 | G30: 0
A31: Comunicaciones | B31: 0 | C31: 0 | D31: 0 | E31: 0 | F31: 0 | G31: 0
A32: Turismo | B32: 0 | C32: 0 | D32: 0 | E32: 0 | F32: 0 | G32: 0
A33: Ciencia, Tecnología e Innovación | B33: 0 | C33: 0 | D33: 0 | E33: 0 | F33: 0 | G33: 0
A34: Otras Industrias y Otros Asuntos Económicos | B34: 0 | C34: 0 | D34: 0 | E34: 0 | F34: 0 | G34: 0
... A40: Adeudos de Ejercicios Fiscales Anteriores | B40: 0 | C40: 0 | D40: 0 | E40: 0 | F40: 0 | G40: 0
A42: Total del Gasto | B42: =B6+B16+B25+B36 -> 1.2087786e+08 | C42: =C6+C16+C25+C36 -> 9194791.7 | D42: =D6+D16+D25+D36 -> 1.3007265e+08 | E42: =E6+E16+E25+E36 -> 23698182 | F42: =F6+F16+F25+F36 -> 23422096 | G42: =G6+G16+G25+G36 -> 1.0637447e+08
A44: Bajo protesta de decir verdad declaramos que los Estados Financieros y sus notas, son razonablemente correctos y son responsabilidad del emisor.
A50: M. en C. Andrés Salvador Casillas Barajas | E50: MAE. Loth Mariano Pérez Camacho
A51: Rector de la Universidad Tecnológica del Norte de Guanajuato | E51: Encargado de la Secretaría de Administración y Finanzas de la Universidad Tecnológica del Norte de Guanajuato

Sheet ENT
A1: Universidad Tecnológica del Norte de Guanajuato Endeudamiento Neto Del 01 de Enero al 31 de Marzo de 2026
A3: Identificación de Crédito o Instrumento | B3: Contratación / Colocación | C3: Amortización | D3: Endeudamiento Neto
B4: A | C4: B | D4: C = A - B
A5: Créditos Bancarios
A6: Durante el periodo no se obtuvieron créditos.
B9: NO APLICA
A14: Total Créditos Bancarios | B14: 0 | C14: 0 | D14: 0
A16: Otros Instrumentos de Deuda
A17: Durante el periodo no se tienen instrumentos.
B21: NO APLICA
A27: Total Otros Instrumentos de Deuda | B27: 0 | C27: 0 | D27: 0
A29: TOTAL | B29: 0 | C29: 0 | D29: 0
A31: Bajo protesta de decir verdad declaramos que los Estados Financieros y sus notas, son razonablemente correctos y son responsabilidad del emisor.
A37: M. en C. Andrés Salvador Casillas Barajas | C37: MAE. Loth Mariano Pérez Camacho
A38: Rector de la Universidad Tecnológica del Norte de Guanajuato | C38: Encargado de la Secretaría de Administración y Finanzas de la Universidad Tecnológica del Norte de Guanajuato

Sheet IND
A1: Universidad Tecnológica del Norte de Guanajuato Intereses de la Deuda Del 01 de Enero al 31 de Marzo de 2026
A3: Identificación de Crédito o Instrumento | B3: Devengado | C3: Pagado
A4: Créditos Bancarios
A5: Durante el periodo no se obtuvieron créditos.
A9: NO APLICA
A14: Total de Intereses de Créditos Bancarios | B14: 0 | C14: 0
A16: Otros Instrumentos de Deuda
A17: Durante el periodo no se tienen instrumentos.
A21: NO APLICA
A26: Total de Intereses de Otros Instrumentos de Deuda | B26: 0 | C26: 0
A28: TOTAL | B28: 0 | C28: 0
A30: Bajo protesta de decir verdad declaramos que los Estados Financieros y sus notas, son razonablemente correctos y son responsabilidad del emisor.
A37: M. en C. Andrés Salvador Casillas Barajas | B37: MAE. Loth Mariano Pérez Camacho
A38: Rector de la Universidad Tecnológica del Norte de Guanajuato | B38: Encargado de la Secretaría de Administración y Finanzas de la Universidad Tecnológica del Norte de Guanajuato

Sheet FFF
A1: UNIVERSIDAD TECNOLOGICA DEL NORTE DE GUANAJUATO Flujo de Fondos Del 1 de Enero al 31 de Marzo de 2026
A2: Concepto | C2: Estimado / Aprobado | D2: Devengado | E2: Recaudado / Pagado
A3: Rubros de Ingresos | C3: =SUM(C4:C13) -> 1.2087786e+08 | D3: =SUM(D4:D13) -> 45097384 | E3: =SUM(E4:E13) -> 44888489
B4: Impuestos | C4: 0 | D4: 0 | E4: 0
B5: Cuotas y Aportaciones de Seguridad Social | C5: 0 | D5: 0 | E5: 0
B6: Contribuciones de Mejoras | C6: 0 | D6: 0 | E6: 0
B7: Derechos | C7: 0 | D7: 0 | E7: 0
B8: Productos | C8: 0 | D8: 0 | E8: 0
B9: Aprovechamientos | C9: 0 | D9: 0 | E9: 0
B10: Ingresos por Ventas de Bienes y Servicios | C10: 16296093 | D10: 2564217.7 | E10: 2564217.7
B11: Participaciones y Aportaciones | C11: 51018101 | D11: 20007240 | E11: 20007240
B12: Transferencias, Asignaciones, Subsidios y Otras Ayudas | C12: 53563662 | D12: 22525926 | E12: 22317032
B13: Ingresos Derivados de Financiamientos | C13: 0 | D13: 0 | E13: 0
A14: Capítulos de Gasto | C14: =SUM(C15:C23) -> 1.2087786e+08 | D14: =SUM(D15:D23) -> 23698182 | E14: =SUM(E15:E23) -> 23422096
B15: Servicios Personales | C15: 94557871 | D15: 20939349 | E15: 20939349
B16: Materiales y Suministros | C16: 2167925.7 | D16: 191531.44 | E16: 160034.64
B17: Servicios Generales | C17: 21993846 | D17: 1865318.7 | E17: 1844544.6
B18: Transferencias, Asignaciones, Subsidios y Otras Ayudas | C18: 1916779 | D18: 254353.25 | E18: 254353.25
B19: Bienes Muebles, Inmuebles e Intangibles | C19: 241434 | D19: 447630 | E19: 223815
B20: Inversión Pública | C20: 0 | D20: 0 | E20: 0
B21: Inversiones Financieras y Otras Provisiones | C21: 0 | D21: 0 | E21: 0
B22: Participaciones y Aportaciones | C22: 0 | D22: 0 | E22: 0
B23: Deuda Pública | C23: 0 | D23: 0 | E23: 0
B24: Superávit/Déficit | C24: =C3-C14 -> 0 | D24: =D3-D14 -> 21399202 | E24: =E3-E14 -> 21466393
A27: Concepto | C27: Estimado / Aprobado | D27: Devengado | E27: Recaudado / Pagado
A28: No Etiquetado | C28: 0 | D28: =SUM(D29:D35) -> 1391961.7 | E28: =SUM(E29:E35) -> 1459153.1
B29: Recursos Fiscales | C29: 0 | D29: 214800.52 | E29: 196299.89
B30: Financiamientos Internos | C30: 0 | D30: 0 | E30: 0
B31: Financiamientos Externos | C31: 0 | D31: 0 | E31: 0
B32: Ingresos Propios | C32: 0 | D32: -422763.05 | E32: -198948.05
B33: Recursos Federales | C33: 0 | D33: 1599924.2 | E33: 1461801.2
B34: Recursos Estatales | C34: 0 | D34: 0 | E34: 0
B35: Otros Recursos de Libre Disposición | C35: 0 | D35: 0 | E35: 0
A36: Etiquetado | C36: 0 | D36: =D37 -> 20007240 | E36: =E37 -> 20007240
B37: Recursos Federales | C37: 0 | D37: 20007240 | E37: 20007240
B38: Recursos Estatales | C38: 0 | D38: 0 | E38: 0
B39: Otros Recursos de Transferencias Federales Etiquetadas | C39: 0 | D39: 0 | E39: 0
B40: Superávit/Déficit | C40: =C28+C36 -> 0 | D40: =D28+D36 -> 21399202 | E40: =E28+E36 -> 21466393
A41: “Bajo protesta de decir verdad declaramos que los Estados Financieros y sus notas, son razonablemente correctos y son responsabilidad del emisor”
B45: M. en C. Andrés Salvador Casillas Barajas | C45: MAE. Loth Mariano Pérez Camacho
...

Sheet GCP
A1: UNIVERSIDAD TECNOLOGICA DEL NORTE DE GUANAJUATO Gasto por Categoría Programática Del 1 de Enero al 31 de Marzo de 2026
A2: Concepto | C2: Egresos | H2: Subejercicio
C3: Aprobado | D3: Ampliaciones/ (Reducciones) | E3: Modificado | F3: Devengado | G3: Pagado
C4: 1 | D4: 2 | E4: 3 = (1 + 2 ) | F4: 4 | G4: 5 | H4: 6 = ( 3 - 4 )
A5: Programas
A6: Subsidios: Sector Social y Privado o Entidades Federativas y Municipios | C6: =SUM(C7:C8) -> 7179110.6 | D6: =SUM(D7:D8) -> 70000.03 | E6: =SUM(E7:E8) -> 7249110.6 | F6: =SUM(F7:F8) -> 1620814.2 | G6: =SUM(G7:G8) -> 1620814.2 | H6: =SUM(H7:H8) -> 5628296.4
B7: Sujetos a Reglas de Operación | C7: 7179110.6 | D7: 70000.03 | E7: =C7+D7 -> 7249110.6 | F7: 1620814.2 | G7: 1620814.2 | H7: =E7-F7 -> 5628296.4
B8: Otros Subsidios | C8: 0 | D8: 0 | E8: =C8+D8 -> 0 | F8: 0 | G8: 0 | H8: 0
A9: Desempeño de las Funciones | C9: =SUM(C10:C17) -> 80880853 | D9: =SUM(D10:D17) -> 7764362.4 | E9: =SUM(E10:E17) -> 88645216 | F9: =SUM(F10:F17) -> 15667471 | G9: =SUM(G10:G17) -> 15432690 | H9: =SUM(H10:H17) -> 72977745
B10: Prestación de Servicios Públicos | C10: 74367197 | D10: 7129441.4 | E10: =C10+D10 -> 81496639 | F10: 14604505 | G10: 14369725 | H10: =E10-F10 -> 66892133
B11: Provisión de Bienes Públicos | C11: 0 | D11: 0 | E11: =C11+D11 -> 0 | F11: 0 | G11: 0 | H11: =E11-F11 -> 0
B12: Planeación, seguimiento y evaluación de políticas públicas | C12: 6513655.9 | D12: 634921.01 | E12: =C12+D12 -> 7148577 | F12: 1062965.1 | G12: 1062965.1 | H12: =E12-F12 -> 6085611.8
B13: Promoción y fomento | C13: 0 | D13: 0 | E13: =C13+D13 -> 0 | F13: 0 | G13: 0 | H13: =E13-F13 -> 0
B14: Regulación y supervisión | C14: 0 | D14: 0 | E14: =C14+D14 -> 0 | F14: 0 | G14: 0 | H14: 0
B15: Funciones de las Fuerzas Armadas (Únicamente Gobierno Federal) | C15: 0 | D15: 0 | E15: =C15+D15 -> 0 | F15: 0 | G15: 0 | H15: 0
B16: Específicos | C16: 0 | D16: 0 | E16: =C16+D16 -> 0 | F16: 0 | G16: 0 | H16: 0
B17: Proyectos de Inversión | C17: 0 | D17: 0 | E17: =C17+D17 -> 0 | F17: 0 | G17: 0 | H17: 0
A18: Administrativos y de Apoyo | C18: =SUM(C19:C21) -> 32817892 | D18: =SUM(D19:D21) -> 1360429.2 | E18: =SUM(E19:E21) -> 34178322 | F18: =SUM(F19:F21) -> 6409897.5 | G18: =SUM(G19:G21) -> 6368592.1 | H18: =SUM(H19:H21) -> 27768424
B19: Apoyo al proceso presupuestario y para mejorar la eficiencia institucional | C19: 31378047 | D19: 1360429.2 | E19: =C19+D19 -> 32738476 | F19: 6093799.8 | G19: 6052494.4 | H19: =E19-F19 -> 26644676
B20: Apoyo a la función pública y al mejoramiento de la gestión | C20: 1439845.4 | D20: -0.01 | E20: =C20+D20 -> 1439845.4 | F20: 316097.68 | G20: 316097.68 | H20: =E20-F20 -> 1123747.8
B21: Operaciones ajenas | C21: 0 | D21: 0 | E21: =C21+D21 -> 0 | F21: 0 | G21: 0 | H21: =E21-F21 -> 0
A22: Compromisos | C22: 0 | D22: 0 | E22: 0 | F22: 0 | G22: 0 | H22: 0
B23: Obligaciones de cumplimiento de resolución jurisdiccional | C23: 0 | D23: 0 | E23: 0 | F23: 0 | G23: 0 | H23: 0
B24: Desastres Naturales | C24: 0 | D24: 0 | E24: 0 | F24: 0 | G24: 0 | H24: 0
A25: Obligaciones | C25: 0 | D25: 0 | E25: 0 | F25: 0 | G25: 0 | H25: 0
B26: Pensiones y jubilaciones | C26: 0 | D26: 0 | E26: 0 | F26: 0 | G26: 0 | H26: 0
B27: Aportaciones a la seguridad social | C27: 0 | D27: 0 | E27: 0 | F27: 0 | G27: 0 | H27: 0
B28: Aportaciones a fondos de estabilización | C28: 0 | D28: 0 | E28: 0 | F28: 0 | G28: 0 | H28: 0
B29: Aportaciones a fondos de inversión y reestructura de pensiones | C29: 0 | D29: 0 | E29: 0 | F29: 0 | G29: 0 | H29: 0
A30: Programas de Gasto Federalizado (Gobierno Federal) | C30: 0 | D30: 0 | E30: 0 | F30: 0 | G30: 0 | H30: 0
B31: Gasto Federalizado | C31: 0 | D31: 0 | E31: 0 | F31: 0 | G31: 0 | H31: 0
A32: Participaciones a Entidades Federativas y Municipios | C32: 0 | D32: 0 | E32: 0 | F32: 0 | G32: 0 | H32: 0
A33: Costo Financiero, Deuda o Apoyos a Deudores y Ahorradores de la Banca | C33: 0 | D33: 0 | E33: 0 | F33: 0 | G33: 0 | H33: 0
A34: Adeudos de Ejercicios Fiscales Anteriores | C34: 0 | D34: 0 | E34: 0 | F34: 0 | G34: 0 | H34: 0
A35: Total del Gasto | C35: =C6+C9+C18 -> 1.2087786e+08 | D35: =D6+D9+D18 -> 9194791.7 | E35: =E6+E9+E18 -> 1.3007265e+08 | F35: =F6+F9+F18 -> 23698182 | G35: =G6+G9+G18 -> 23422096 | H35: =H6+H9+H18 -> 1.0637447e+08
A36: “Bajo protesta de decir verdad declaramos que los Estados Financieros y sus notas, son razonablemente correctos y son responsabilidad del emisor”.
B41: M. en C. Andrés Salvador Casillas Barajas | F41: MAE. Loth Mariano Pérez Camacho
B42: Rector de la Universidad Tecnológica del Norte de Guanajuato | F42: Encargado de la Secretaría de Administración y Finanzas de la Universidad Tecnológica del Norte de Guanajuato

Sheet PPI
B1: UNIVERSIDAD TECNOLOGICA DEL NORTE DE GUANAJUATO Programas y Proyectos de Inversión Del 1 de Enero al 31 de Marzo de 2026
B2: PROGRAMAS Y PROYECTOS DE INVERSIÓN | D2: DENOMINACIÓN PROGRAMA/PROYECTO | E2: PATIDA DE GASTO | F2: DENOMINACIÓN PARTIDA DE GASTO | G2: INVERSIÓN
G3: INVERSIÓN INICIAL PROGRAMADA | H3: APROBADA | I3: MODIFICADA | J3: DEVENGADO | K3: PAGADO | L3: PORCENTAJE DE AVANCE FINANCIERO
L4: PAGADO/ APROBADA | M4: PAGADO/ MODIFICADA
B6: PROGRAMAS DE INVERSIÓN
C7: PROGRAMA DE INVERSIÓN DE ADQUISICIONES
B9: E017PB03982500 | D9: ADMINISTRACIÓN E IMPARTICIÓN DE LOS SERVICIOS EDUCATIVOS EXISTENTES DE LA UTNG. | E9: 5110 | F9: MUEBLES DE OFICINA Y ESTANTERIA | G9: 0 | H9: 0 | I9: 125280 | J9: 0 | K9: 0 | L9: 0 | M9: 0
B10: E017PB03982600 | D10: ADMINISTRACIÓN E IMPARTICIÓN DE LOS SERVICIOS EDUCATIVOS EXISTENTES DE LA UTNG. | E10: 5110 | F10: MUEBLES DE OFICINA Y ESTANTERIA | G10: 0 | H10: 0 | I10: 34715 | J10: 0 | K10: 0 | L10: 0 | M10: 0
E11: 5120 | F11: MUEBLES, EXCEPTO DE OFICINA Y ESTANTERIA | G11: 0 | H11: 0 | I11: 20449 | J11: 0 | K11: 0 | L11: 0 | M11: 0
E12: 5150 | F12: EQUIPO DE COMPUTO Y DE TECNOLOGIAS DE LA INFORMACI | G12: 82434 | H12: 82434 | I12: 82434 | J12: 0 | K12: 0 | L12: 0 | M12: 0
E13: 5660 | F13: EQUIPOS DE GENERACION ELECTRICA, APARATOS Y ACCESO | G13: 0 | H13: 0 | I13: 4500 | J13: 0 | K13: 0 | L13: 0 | M13: 0
E14: 5690 | F14: OTROS EQUIPOS | G14: 0 | H14: 0 | I14: 8500 | J14: 0 | K14: 0 | L14: 0 | M14: 0
B15: E017PB04052500 | D15: MANTENIMIENTO DE LA INFRAESTRUCTURA DE LA UTNG. | E15: 5150 | F15: EQUIPO DE COMPUTO Y DE TECNOLOGIAS DE LA INFORMACI | G15: 0 | H15: 0 | I15: 223815 | J15: 447630 | K15: 223815 | L15: 0 | M15: 1
E16: 5640 | F16: SISTEMAS DE AIRE ACONDICIONADO, CALEFACCION Y DE R | G16: 0 | H16: 0 | I16: 357500 | J16: 0 | K16: 0 | L16: 0 | M16: 0
B17: E017PB04052600 | D17: MANTENIMIENTO DE LA INFRAESTRUCTURA DE LA UTNG. | E17: 5150 | F17: EQUIPO DE COMPUTO Y DE TECNOLOGIAS DE LA INFORMACI | G17: 0 | H17: 0 | I17: 2595000 | J17: 0 | K17: 0 | L17: 0 | M17: 0
E18: 5210 | F18: EQUIPO Y APARATOS AUDIOVISUALES | G18: 0 | H18: 0 | I18: 67000 | J18: 0 | K18: 0 | L18: 0 | M18: 0
E19: 5230 | F19: CAMARAS FOTOGRAFICAS Y DE VIDEO | G19: 0 | H19: 0 | I19: 55000 | J19: 0 | K19: 0 | L19: 0 | M19: 0
E20: 5610 | F20: MAQUINARIA Y EQUIPO AGROPECUARIO | G20: 20000 | H20: 20000 | I20: 20000 | J20: 0 | K20: 0 | L20: 0 | M20: 0
E21: 5640 | F21: SISTEMAS DE AIRE ACONDICIONADO, CALEFACCION Y DE R | G21: 0 | H21: 0 | I21: 70000 | J21: 0 | K21: 0 | L21: 0 | M21: 0
E22: 5670 | F22: HERRAMIENTAS Y MAQUINAS-HERRAMIENTA | G22: 42000 | H22: 42000 | I22: 42000 | J22: 0 | K22: 0 | L22: 0 | M22: 0
E23: 5690 | F23: OTROS EQUIPOS | G23: 20000 | H23: 20000 | I23: 20000 | J23: 0 | K23: 0 | L23: 0 | M23: 0
B24: M006GB10382600 | D24: ADMINISTRACIÓN DE LOS RECURSOS HUMANOS, MATERIALES, FINANCIEROS Y DE SERVICIOS DE LA UTNG. | E24: 5110 | F24: MUEBLES DE OFICINA Y ESTANTERIA | G24: 0 | H24: 0 | I24: 26000 | J24: 0 | K24: 0 | L24: 0 | M24: 0
E25: 5150 | F25: EQUIPO DE COMPUTO Y DE TECNOLOGIAS DE LA INFORMACI | G25: 7000 | H25: 7000 | I25: 252000 | J25: 0 | K25: 0 | L25: 0 | M25: 0
E26: 5190 | F26: OTROS MOBILIARIOS Y EQUIPOS DE ADMINISTRACION | G26: 70000 | H26: 70000 | I26: 70000 | J26: 0 | K26: 0 | L26: 0 | M26: 0
B27: M007GC21112600 | D27: OPERACIÓN DEL MODELO DE PLANEACIÓN Y EVALUACIÓN DE LA UTNG. | E27: 5150 | F27: EQUIPO DE COMPUTO Y DE TECNOLOGIAS DE LA INFORMACI | G27: 0 | H27: 0 | I27: 100000 | J27: 0 | K27: 0 | L27: 0 | M27: 0
B28: P005PA04042500 | D28: GESTIÓN DE CERTIFICACIÓN DE PROCESOS DE LA UTNG. | E28: 5110 | F28: MUEBLES DE OFICINA Y ESTANTERIA | G28: 0 | H28: 0 | I28: 6078.4 | J28: 0 | K28: 0 | L28: 0 | M28: 0
B29: P005PA04042600 | D29: GESTIÓN DE CERTIFICACIÓN DE PROCESOS DE LA UTNG. | E29: 5210 | F29: EQUIPO Y APARATOS AUDIOVISUALES | G29: 0 | H29: 0 | I29: 3500 | J29: 0 | K29: 0 | L29: 0 | M29: 0
E30: 5230 | F30: CAMARAS FOTOGRAFICAS Y DE VIDEO | G30: 0 | H30: 0 | I30: 100000 | J30: 0 | K30: 0 | L30: 0 | M30: 0
B31: S016PB29142600 | D31: GESTIÓN DE PROYECTOS DE INVESTIGACIÓN, INNOVACIÓN Y DESARROLLO TECNOLÓGICO DE LA UTNG | E31: 5150 | F31: EQUIPO DE COMPUTO Y DE TECNOLOGIAS DE LA INFORMACI | G31: 0 | H31: 0 | I31: 70000 | J31: 0 | K31: 0 | L31: 0 | M31: 0
B34: TOTAL PROGRAMA DE INVERSIÓN DE ADQUISICIONES | G34: 241434 | H34: 241434 | I34: 4353771.4 | J34: 447630 | K34: 223815 | L34: 0.92702353 | M34: 0.051407155
B36: PROYECTOS DE INVERSIÓN
C37: PROGRAMA DE INVERSIÓN DE INFRAESTRUCTURA
B41: TOTAL PROYECTOS DE INVERSIÓN DE INFRAESTRUCTURA | G41: #REF! | H41: #REF! | I41: #REF! | J41: #REF! | K41: #REF! | L41: 0 | M41: 0
B43: TOTAL PROGRAMAS Y PROYECTOS DE INVERSIÓN | G43: #REF! | H43: #REF! | I43: #REF! | J43: #REF! | K43: #REF! | L43: 0 | M43: 0
B45: “Bajo protesta de decir verdad declaramos que los Estados Financieros y sus notas, son razonablemente correctos y son responsabilidad del emisor”
D50: M. en C. Andrés Salvador Casillas Barajas | H50: MAE. Loth Mariano Pérez Camacho
D51: Rector de la Universidad Tecnológica del Norte de Guanajuato | H51: Encargado de la Secretaría de Administración y Finanzas de la Universidad Tecnológica del Norte de Guanajuato

Sheet IR
A1: Universidad Tecnlógica del Norte de Guanajuato Indicadores de Resultados Del 1 de Enero al 31 de Marzo 2026
A2: =+#REF! -> #REF! | F2: Prespuesto del programa presupuestario | K2: MIR | N2: Indicadores | U2: Resultado del indicador
A3: Clasificación Programática acorde al CONAC | B3: Clave del Programa presupuestario | C3: Nombre del programa presupuestario | D3: Clasificación funcional del gasto al que corresponde el programa presupuestario | E3: Nombre de la dependencia o entidad que lo ejecuta | F3: Aprobado | G3: Modificado | H3: Devengado | I3: Ejercido | J3: Pagado | K3: Cuenta con MIR (SI/NO) | L3: Nivel de la MIR del programa | M3: Descripción del resumen narrativo (FIN, Propósito, componentes y actividades) | N3: Nombre del Indicador | O3: Nivel de la MIR, al que corresponde el indicador | P3: Fórmula de cálculo | Q3: Descripción de variables de la fórmula | R3: Meta del indicador Programada | S3: Meta del indicador Modificada | T3: Meta del indicador alcanzada | U3: Valor del numerador de la formula | V3: Valor del denominador de la formula | W3: Unidad de medida de las variables del indicador
A4: 1 | B4: 2 | C4: 3 | D4: 4 | E4: 5 | F4: 6 | G4: 7 | H4: 8 | I4: 9 | J4: 10 | K4: 11 | L4: 12 | M4: 13 | N4: 14 | O4: 15 | P4: 16 | Q4: 17 | R4: 18 | S4: 19 | T4: 20 | U4: 21 | V4: 22 | W4: 23
A5: M005 | B5: M005GA20062600 | C5: DIRECCIÓN ESTRATÉGICA DE LA UTNG. | D5: 253 | E5: Universidad Tecnológica del Norte de Guanajuato | F5: 3942800.2 | G5: 3909952.6 | H5: 0 | I5: 931344.92 | J5: 876001.62 | K5: No | L5: N/A | M5: N/A | N5: N/A | O5: Componente | P5: N/A | Q5: N/A | R5: N/A | S5: N/A | T5: N/A | U5: N/A | V5: N/A | W5: N/A
A6: M006 | B6: M006GB10382600 | C6: ADMINISTRACIÓN DE LOS RECURSOS HUMANOS, MATERIALES, FINANCIEROS Y DE SERVICIOS DE LA UTNG. | D6: 253 | E6: Universidad Tecnológica del Norte de Guanajuato | F6: 22842951 | G6: 24013477 | H6: 0 | I6: 6222477.6 | J6: 4699702 | K6: No | L6: N/A | M6: N/A | N6: N/A | O6: Componente | P6: N/A | Q6: N/A | R6: N/A | S6: N/A | T6: N/A | U6: N/A | V6: N/A | W6: N/A
A7: M007 | B7: M007GC21112600 | C7: OPERACIÓN DEL MODELO DE PLANEACIÓN Y EVALUACIÓN DE LA UTNG. | D7: 253 | E7: Universidad Tecnológica del Norte de Guanajuato | F7: 4592296.3 | G7: 4561734.9 | H7: 0 | I7: 1053076.3 | J7: 951251.25 | K7: No | L7: N/A | M7: N/A | N7: N/A | O7: Componente | P7: N/A | Q7: N/A | R7: N/A | S7: N/A | T7: N/A | U7: N/A | V7: N/A | W7: N/A
A8: O009 | B8: O009GD12632600 | C8: OPERACIÓN DEL ÓRGANO INTERNO DE CONTROL DE LA UNIVERSIDAD TECNOLÓGICA DEL NORTE DE GUANAJUATO. | D8: 134 | E8: Universidad Tecnológica del Norte de Guanajuato | F8: 1439845.4 | G8: 1428743.9 | H8: 0 | I8: 358154.94 | J8: 358154.94 | K8: No | L8: N/A | M8: N/A | N8: N/A | O8: Componente | P8: N/A | Q8: N/A | R8: N/A | S8: N/A | T8: N/A | U8: N/A | V8: N/A | W8: N/A
A9: P005 | B9: P005PA04002600 | C9: APOYOS A LA CAPACITACIÓN, ACTUALIZACIÓN Y PROFESIONALIZACIÓN DE CUERPOS ACADÉMICOS Y DIRECTIVOS DE L | D9: 253 | E9: Universidad Tecnológica del Norte de Guanajuato | F9: 1613090.8 | G9: 1798039.9 | H9: 0 | I9: 356877.09 | J9: 356369.01 | K9: Si | L9: Componente | M9: Los cuerpos académicos y directivos de las instituciones públicas de educación superior son capacitados, actualizados y profesionalizados | N9: Porcentaje de docentes, directivos y personal administrativo fortalecidos con alguna acción formativa y/o de desarrollo profesional | O9: Componente | P9: A/B*100 | Q9: A.Docentes, directivos y personal administrativo fortalecidos con alguna acción formativa y/o de desarrollo profesional. B.Docentes, directivos y personal administrativo programados a ser fortalecidos con alguna acción formativa y/o de desarrollo profesional. | R9: 1 | S9: 0 | T9: 0.068 | U9: 250 | V9: 250 | W9: Docente, directivo y personal administrativo
A10: P005 | B10: P005PA04032600 | C10: GESTIÓN DEL PROCESO DE ACREDITACIÓN Y EVALUACIÓN DE PROGRAMAS DE IES PÚBLICAS DE LA UTNG | D10: 253 | E10: Universidad Tecnológica del Norte de Guanajuato | F10: 4066996.5 | G10: 4033692.2 | H10: 0 | I10: 749548.08 | J10: 749548.08 | K10: Si | L10: Componente | M10: Programas, procesos y/o planteles de instituciones de educación superior, certificados. | N10: Porcentaje de procesos educativos certificados y/o programas educativos acreditados | O10: Componente | P10: A/B*100 | Q10: A.Procesos y/o programas educativos certificados y/o acreditados B.Procesos y/o programas educativos programados a ser certificados y/o acreditados | R10: 1 | S10: 0 | T10: 0.15 | U10: 13 | V10: 13 | W10: Procesos y/o programas educativos
A11: P005 | B11: P005PA04042600 | C11: GESTIÓN DE CERTIFICACIÓN DE PROCESOS DE LA UTNG. | D11: 253 | E11: Universidad Tecnológica del Norte de Guanajuato | F11: 833568.57 | G11: 1289844.5 | H11: 0 | I11: 171470.65 | J11: 83870.65 | K11: Si | L11: Componente | M11: Programas, procesos y/o planteles de instituciones de educación superior, certificados | N11: Porcentaje de procesos educativos certificados y/o programas educativos acreditados | O11: Componente | P11: A/B*100 | Q11: A.Procesos y/o programas educativos certificados y/o acreditados B.Procesos y/o programas educativos programados a ser certificados y/o acreditados | R11: 1 | S11: 0 | T11: 0.15 | U11: 13 | V11: 13 | W11: Procesos y/o programas educativos
A12: E017 | B12: E017PB03982600 | C12: ADMINISTRACIÓN E IMPARTICIÓN DE LOS SERVICIOS EDUCATIVOS EXISTENTES DE LA UTNG. | D12: 253 | E12: Universidad Tecnológica del Norte de Guanajuato | F12: 41193301 | G12: 41234471 | H12: 0 | I12: 10186899 | J12: 10128734 | K12: Si | L12: Componente | M12: Servicios educativos ofertados | N12: Porcentaje de alumnos atendidos | O12: Componente | P12: A/B*100 | Q12: A.Número de alumnos atendidos B.Número de alumnos proyectados a atender | R12: 1 | S12: 0 | T12: 0 | U12: 2505 | V12: 2505 | W12: Alumnos atendidos
A13: E057 | B13: E057PB03992600 | C13: APLICACIÓN DE PLANES DE TRABAJO DE ATENCIÓN A LA DESERCIÓN Y REPROBACIÓN DE LA UTNG. | D13: 253 | E13: Universidad Tecnológica del Norte de Guanajuato | F13: 1123514.7 | G13: 1233100.1 | H13: 0 | I13: 207499.36 | J13: 207499.36 | K13: Si | L13: Componente | M13: Apoyo académico y/o psicosocial a alumnos en riesgo de deserción o reprobación otorgados. | N13: Porcentaje de alumnos en riesgo de deserción y reprobación atendidos con apoyo académico y/o psicosocial | O13: Componente | P13: A/B*100 | Q13: A.Alumnos en riesgo de deserción y reprobación atendidos con apoyo académico y/o psicosocial B.Alumnos en riesgo de deserción y reprobación, identificados | R13: 1 | S13: 0 | T13: 0.09 | U13: 2362 | V13: 2362 | W13: Alumnos atendidos
A14: E038 | B14: E038PB04012600 | C14: CAPACITACIÓN Y CERTIFICACIÓN DE COMPETENCIAS OCUPACIONALES DE LA UTNG. | D14: 253 | E14: Universidad Tecnológica del Norte de Guanajuato | F14: 459140.52 | G14: 454098.55 | H14: 0 | I14: 115821.8 | J14: 115821.8 | K14: Si | L14: Componente | M14: Programas de certificación de competencias laborales ofertados en Educación Superior | N14: Porcentaje de alumnos con formación y/o certificados en competencias laborales | O14: Componente | P14: A/B*100 | Q14: A.Alumnos con formación y/o certificados en competencias laborales B.Alumnos con formación y/o certificados en competencias laborales, programados | R14: 1 | S14: 0 | T14: 1 | U14: 643 | V14: 643 | W14: Alumnos atendidos
A15: P005 | B15: E005PB04022600 | C15: REALIZACIÓN DE CURSOS Y EVENTOS DE FORTALECIMIENTO A LA FORMACIÓN INTEGRAL DE LOS ALUMNOS DE LA UTN | D15: 253 | E15: Universidad Tecnológica del Norte de Guanajuato | F15: 6728754.3 | G15: 6925097.3 | H15: 0 | I15: 1669988.3 | J15: 1665592.3 | K15: Si | L15: Componente | M15: Cursos, actividades y talleres para el desarrollo complementario de los alumnos impartidos. UTNG | N15: Porcentaje de estudiantes participando en cursos, actividades y talleres complementarias para el desarrollo integral | O15: Componente | P15: A/B*100 | Q15: A.Estudiantes participando en cursos, actividades y talleres complementarias para el desarrollo integral B.Estudiantes progragamos para participar en cursos, actividades y talleres complementarias para el desarrollo integral | R15: 1 | S15: 0 | T15: 0.26 | U15: 1500 | V15: 1500 | W15: Estudiantes
A16: E017 | B16: E017PB04052600 | C16: MANTENIMIENTO DE LA INFRAESTRUCTURA DE LA UTNG. | D16: 253 | E16: Universidad Tecnológica del Norte de Guanajuato | F16: 13006451 | G16: 19080071 | H16: 0 | I16: 3324575.4 | J16: 1471172.8 | K16: Si | L16: Componente | M16: Infraestructura educativa consolidada. | N16: Porcentaje de necesidades de infraestructura y equipamiento atendidas | O16: Componente | P16: A/B*100 | Q16: A.Necesidades de infraestructura y equipamiento atendidas B.Necesidades de infraestructura y equipamiento identificadas | R16: 1 | S16: 0 | T16: 0 | U16: 6 | V16: 6 | W16: Acciones de infraestructura
A17: E057 | B17: E057PB04062600 | C17: OPERACIÓN DE OTORGAMIENTO DE BECAS Y APOYOS A LOS ALUMNOS DE LA UTNG. | D17: 253 | E17: Universidad Tecnológica del Norte de Guanajuato | F17: 1132604.5 | G17: 1150718.9 | H17: 0 | I17: 295969.27 | J17: 295969.27 | K17: Si | L17: Componente | M17: Becas y apoyos otorgados a estudiantes de educación media superior y superior | N17: Porcentaje de becas y apoyos otorgados | O17: Componente | P17: A/B*100 | Q17: A.Becas y apoyos otorgados B.Becas y apoyos programados a otorgar | R17: 1 | S17: 0 | T17: 0.19 | U17: 900 | V17: 900 | W17: Becas y apoyos educativos
A18: E038 | B18: E038PB04072600 | C18: OPERACIÓN DE SERVICIOS DE VINCULACIÓN CON EL ENTORNO Y LA UTNG. | D18: 253 | E18: Universidad Tecnológica del Norte de Guanajuato | F18: 5136529.6 | G18: 5576556.1 | H18: 0 | I18: 1151178.3 | J18: 1066015 | K18: Si | L18: Componente | M18: Vinculación con el entorno operando | N18: Porcentaje de alumnos atendidos con acciones de fortalecimiento | O18: Componente | P18: A/B*100 | Q18: A.Alumnos atendidos con acciones de fortalecimiento para la vinculación con el entorno B.Alumnos programados a ser atendidos con acciones de fortalecimiento para la vinculación con el entorno | R18: 1 | S18: 0 | T18: 0.17 | U18: 1498 | V18: 1498 | W18: Alumnos atendidos
A19: E038 | B19: E038PB04092600 | C19: PROGRAMA DE CAPACITACIÓN PARA ATENCIÓN DE NECESIDADES DE LA INDUSTRIA DE NUEVA CREACIÓN EN EL ENTORN | D19: 253 | E19: Universidad Tecnológica del Norte de Guanajuato | F19: 461493.05 | G19: 456451.08 | H19: 0 | I19: 101463.6 | J19: 101463.6 | K19: Si | L19: Componente | M19: Programas (carreras) en disciplinas emergentes y áreas estratégicas ofertados. | N19: Porcentaje de alumnos atendidos en programas de disciplinas emergentes o áreas estratégicas | O19: Componente | P19: A/B*100 | Q19: A.Alumnos atendidos en programas de disciplinas emergentes o áreas estratégicas B.Alumnos programados a ser atendidos en programas de disciplinas emergentes o áreas estratégicas | R19: 1 | S19: 0 | T19: 0 | U19: 20 | V19: 20 | W19: Alumnos atendidos
A20: E038 | B20: E038PB04102600 | C20: IMPULSO AL EMPRENDIMIENTO E INCUBACIÓN DE EMPRESAS EN LA UTNG | D20: 253 | E20: Universidad Tecnológica del Norte de Guanajuato | F20: 1082718.6 | G20: 1126448.6 | H20: 0 | I20: 224848.52 | J20: 224788.52 | K20: Si | L20: Componente | M20: Programa de aprendizaje para el liderazgo y emprendimiento ofertado en Educación Superior. UTNG | N20: Porcentaje de alumnos atendidos con acciones para el fortalecimiento de competencias emprendedoras | O20: Componente | P20: A/B*100 | Q20: A.Alumnos atendidos con acciones para el fortalecimiento de competencias emprendedoras B.Alumnos programados para ser atendidos con acciones para el fortalecimiento de competencias emprendedoras | R20: 1 | S20: 0 | T20: 0.23 | U20: 1541 | V20: 1541 | W20: Alumnos atendidos
... A22: S016 | B22: S016PB29142600 | C22: GESTIÓN DE PROYECTOS DE INVESTIGACIÓN, INNOVACIÓN Y DESARROLLO TECNOLÓGICO DE LA UTNG | D22: 253 | E22: Universidad Tecnológica del Norte de Guanajuato | F22: 7179110.6 | G22: 7172642.4 | H22: 0 | I22: 1811984.8 | J22: 1811984.8 | K22: Si | L22: Componente | M22: Proyectos de investigación, innovación y desarrollo tecnológico realizados por instituciones de educación superior. UTN | N22: Tasa de variación anual de proyectos de investigación | O22: Componente | P22: (A/B-1)*100 | Q22: A.Número de proyectos de investigación que se desarrollan en el presente año B.Número de proyectos de investigación que se desarrollaron en el año inmediato anterior | R22: 1 | S22: 0 | T22: 0 | U22: 0.33 | V22: 0.33 | W22: Tasa de variación
F23: =SUM(F5:F22) -> 1.179662e+08 | G23: =SUM(G5:G22) -> 1.2656435e+08 | H23: =SUM(H5:H22) -> 0 | I23: =SUM(I5:I22) -> 29216411 | J23: =SUM(J5:J22) -> 25447172
A24: Bajo protesta de decir verdad declaramos que los Estados Financieros y sus Notas son razonablemente correctos y responsabilidad del emisor
C31: M. en C. Andrés Salvador Casillas Barajas | K31: MAE. Loth Mariano Pérez Camacho
C32: Rector de la Universidad Tecnológica del Norte de Guanajuato | K32: Encargado de la Secretaría de Administración y Finanzas de la Universidad Tecnológica del Norte de Guanajuato
